BEGIN:VCALENDAR
PRODID:-//PUBBLE//agenda//NL
VERSION:2.0
METHOD:PUBLISH
BEGIN:VEVENT
DTSTART:20261125T220000Z
DTEND:20261125T220000Z
DTSTAMP:20260420T081053Z
UID:44066f6c-6501-4a4c-84ea-f5eb95acd68d
CREATED:20260420T081053Z
NAME:Volle maan wandeling met meditatie oudega-swf.nl
X-WR-CALNAME:Volle maan wandeling met meditatie
X-ALT-DESC;FMTTYPE=text/html:<a href='/agenda/2026/11/26/volle-maan-wandeling-met-meditatie-125083'>/agenda/2026/11/26/volle-maan-wandeling-met-meditatie-125083</a> || <p>Wandelen in de schemerige en donkere natuur is een onvergetelijke belevenis. Vooral als de volle maan zich laat zien.</p>
<p>Daarnaast is de volle maan een krachtig moment om te mediteren.</p>
<p>Op donderdag 26 november kun je dit zelf ervaren.&nbsp;</p>
<p>Vanuit het kerkje van Swichum maken we een wandeling en stoppen onderweg om met elkaar te mediteren.</p>
<p><strong>Tijdstip</strong><br />19.30 - 22.00 uur</p>
<p><strong>Entree</strong><br />20,- (incl koffie/thee)</p>
<p><strong>Informatie of reservering</strong><br /></p>

<p>Opgave via www.bertinetenbrinke.nl</p>
DESCRIPTION:<a href='/agenda/2026/11/26/volle-maan-wandeling-met-meditatie-125083'>/agenda/2026/11/26/volle-maan-wandeling-met-meditatie-125083</a> || <p>Wandelen in de schemerige en donkere natuur is een onvergetelijke belevenis. Vooral als de volle maan zich laat zien.</p>
<p>Daarnaast is de volle maan een krachtig moment om te mediteren.</p>
<p>Op donderdag 26 november kun je dit zelf ervaren.&nbsp;</p>
<p>Vanuit het kerkje van Swichum maken we een wandeling en stoppen onderweg om met elkaar te mediteren.</p>
<p><strong>Tijdstip</strong><br />19.30 - 22.00 uur</p>
<p><strong>Entree</strong><br />20,- (incl koffie/thee)</p>
<p><strong>Informatie of reservering</strong><br /></p>

<p>Opgave via www.bertinetenbrinke.nl</p>
LAST-MODIFIED:20260420T081053Z
LOCATION: Onbekend | Ayttadyk 3 Swichum
SEQUENCE:0
STATUS:CONFIRMED
SUMMARY:Volle maan wandeling met meditatie
TRANSP:OPAQUE
END:VEVENT
END:VCALENDAR
