BEGIN:VCALENDAR
PRODID:-//PUBBLE//agenda//NL
VERSION:2.0
METHOD:PUBLISH
BEGIN:VEVENT
DTSTART:20260217T183315Z
DTEND:20261030T215900Z
DTSTAMP:20260420T080920Z
UID:0fbe0e68-ed4d-4deb-93a8-2acc8a7c7deb
CREATED:20260420T080920Z
NAME:Chr. Fanfare ‘De Vrije Fries’ viert 100-jarig jubileum oudega-swf.nl
X-WR-CALNAME:Chr. Fanfare ‘De Vrije Fries’ viert 100-jarig jubileum
X-ALT-DESC;FMTTYPE=text/html:<a href='/agenda/2026/10/30/chr-fanfare-de-vrije-fries-viert-100-jarig-jubileum-126258'>/agenda/2026/10/30/chr-fanfare-de-vrije-fries-viert-100-jarig-jubileum-126258</a> || <p>NIEUWEHORNE - Op 27 oktober 2026 bestaat de Chr. Fanfare ‘De Vrije Fries’ te Oudehorne 100 jaar. Dit laten wij natuurlijk niet ongemerkt voorbij gaan en het jubileumjaar wordt afgetrapt met een concert door het ‘Orkest Koninklijke Luchtmacht’ in het sportcomplex te Nieuwehorne, op vrijdag 30 oktober 2026.</p>
DESCRIPTION:<a href='/agenda/2026/10/30/chr-fanfare-de-vrije-fries-viert-100-jarig-jubileum-126258'>/agenda/2026/10/30/chr-fanfare-de-vrije-fries-viert-100-jarig-jubileum-126258</a> || <p>NIEUWEHORNE - Op 27 oktober 2026 bestaat de Chr. Fanfare ‘De Vrije Fries’ te Oudehorne 100 jaar. Dit laten wij natuurlijk niet ongemerkt voorbij gaan en het jubileumjaar wordt afgetrapt met een concert door het ‘Orkest Koninklijke Luchtmacht’ in het sportcomplex te Nieuwehorne, op vrijdag 30 oktober 2026.</p>
LAST-MODIFIED:20260420T080920Z
LOCATION: Sportcomplex Nieuwehorne  | Master van Dijkpaad 4 Nieuwehorne
SEQUENCE:0
STATUS:CONFIRMED
SUMMARY:Chr. Fanfare ‘De Vrije Fries’ viert 100-jarig jubileum
TRANSP:OPAQUE
END:VEVENT
END:VCALENDAR
