BEGIN:VCALENDAR
PRODID:-//PUBBLE//agenda//NL
VERSION:2.0
METHOD:PUBLISH
BEGIN:VEVENT
DTSTART:20261121T120000Z
DTEND:20261121T133000Z
DTSTAMP:20260420T081017Z
UID:71d6bc27-6a3b-49cd-9db9-28331d1e0bdf
CREATED:20260420T081017Z
NAME:Sinterklaas wandeltocht Sneek oudega-swf.nl
X-WR-CALNAME:Sinterklaas wandeltocht Sneek
X-ALT-DESC;FMTTYPE=text/html:<a href='/agenda/2026/11/21/sinterklaas-wandeltocht-sneek-126425'>/agenda/2026/11/21/sinterklaas-wandeltocht-sneek-126425</a> || <p>Op <strong>zaterdag 21 november</strong> vertrekt Sinterklaas om <strong>14.00 uur vanaf het stadhuis van Sneek </strong>voor een wandeltocht door de binnenstad, muzikaal vergezeld door Dweilorkest de Putkapel.&nbsp;</p>
<p><strong>Route wandeltocht</strong><br />Marktstraat, Nauwe Noorderhorne, Kruizebroederstraat, Wijde Burgstraat, Oosterdijk, Jousterkade, Kleinzand, Suupmarkt, Grootzand zuidzijde, Grootzand noordzijde, Leeuwenburg, Scharnestraat, Galigastraat, Grote Kerkstraat.</p>
DESCRIPTION:<a href='/agenda/2026/11/21/sinterklaas-wandeltocht-sneek-126425'>/agenda/2026/11/21/sinterklaas-wandeltocht-sneek-126425</a> || <p>Op <strong>zaterdag 21 november</strong> vertrekt Sinterklaas om <strong>14.00 uur vanaf het stadhuis van Sneek </strong>voor een wandeltocht door de binnenstad, muzikaal vergezeld door Dweilorkest de Putkapel.&nbsp;</p>
<p><strong>Route wandeltocht</strong><br />Marktstraat, Nauwe Noorderhorne, Kruizebroederstraat, Wijde Burgstraat, Oosterdijk, Jousterkade, Kleinzand, Suupmarkt, Grootzand zuidzijde, Grootzand noordzijde, Leeuwenburg, Scharnestraat, Galigastraat, Grote Kerkstraat.</p>
LAST-MODIFIED:20260420T081017Z
LOCATION: Centrum | Marktstraat 21 SNEEK
SEQUENCE:0
STATUS:CONFIRMED
SUMMARY:Sinterklaas wandeltocht Sneek
TRANSP:OPAQUE
END:VEVENT
END:VCALENDAR
