BEGIN:VCALENDAR
PRODID:-//PUBBLE//agenda//NL
VERSION:2.0
METHOD:PUBLISH
BEGIN:VEVENT
DTSTART:20261114T120000Z
DTEND:20261114T133000Z
DTSTAMP:20260420T081039Z
UID:b1ec070e-ad24-41d2-9cfe-74b0a961f0b6
CREATED:20260420T081039Z
NAME:Sinterklaasintocht Sneek oudega-swf.nl
X-WR-CALNAME:Sinterklaasintocht Sneek
X-ALT-DESC;FMTTYPE=text/html:<a href='/agenda/2026/11/14/sinterklaasintocht-sneek-126426'>/agenda/2026/11/14/sinterklaasintocht-sneek-126426</a> || <p>Zaterdag <strong>14 november</strong> rond <strong>14.00 uur</strong> komt Sinterklaas in Sneek met een spectaculaire intocht met de boot in de Kolk bij de Waterpoort Sneek. Sinterklaas wordt bij de Waterpoort verwelkomd door gastheer Clown Sander en de Burgemeester. Hierna maakt hij een tocht door het centrum met al zijn pieten en&nbsp; kadowagens, muzikaal vergezeld door Advendo en Dweilorkest De Utlopers. Rond 15.30 uur eindigt de tocht bij het stadhuis in Sneek.&nbsp;</p>
<p>De route van de intocht:<br />Waterpoortsgracht, Zuidend, Hoogend NZ, Brug Oude Koemarkt, Hoogend ZZ, Singel, Kleinzand, Jousterkade, Oosterdijk, Wijde Burgstraat, Nauwe Burgstraat, Schaapmarktplein, Grootzand, Havenstraat, Scharnestraat, Galigastraat, Oud Kerkhof, Nauwe Noorderhorne, Wijde Noorderhorne, Kruizebroederstraat, Nauwe Burgstraat, Schaapmarktplein, Leeuwenburg NZ en Marktstraat.</p>
DESCRIPTION:<a href='/agenda/2026/11/14/sinterklaasintocht-sneek-126426'>/agenda/2026/11/14/sinterklaasintocht-sneek-126426</a> || <p>Zaterdag <strong>14 november</strong> rond <strong>14.00 uur</strong> komt Sinterklaas in Sneek met een spectaculaire intocht met de boot in de Kolk bij de Waterpoort Sneek. Sinterklaas wordt bij de Waterpoort verwelkomd door gastheer Clown Sander en de Burgemeester. Hierna maakt hij een tocht door het centrum met al zijn pieten en&nbsp; kadowagens, muzikaal vergezeld door Advendo en Dweilorkest De Utlopers. Rond 15.30 uur eindigt de tocht bij het stadhuis in Sneek.&nbsp;</p>
<p>De route van de intocht:<br />Waterpoortsgracht, Zuidend, Hoogend NZ, Brug Oude Koemarkt, Hoogend ZZ, Singel, Kleinzand, Jousterkade, Oosterdijk, Wijde Burgstraat, Nauwe Burgstraat, Schaapmarktplein, Grootzand, Havenstraat, Scharnestraat, Galigastraat, Oud Kerkhof, Nauwe Noorderhorne, Wijde Noorderhorne, Kruizebroederstraat, Nauwe Burgstraat, Schaapmarktplein, Leeuwenburg NZ en Marktstraat.</p>
LAST-MODIFIED:20260420T081039Z
LOCATION: Onbekend | Waterpoortsgracht 38 Sneek
SEQUENCE:0
STATUS:CONFIRMED
SUMMARY:Sinterklaasintocht Sneek
TRANSP:OPAQUE
END:VEVENT
END:VCALENDAR
