BEGIN:VCALENDAR
PRODID:-//PUBBLE//agenda//NL
VERSION:2.0
METHOD:PUBLISH
BEGIN:VEVENT
DTSTART:20261003T090000Z
DTEND:20261003T160000Z
DTSTAMP:20260420T081017Z
UID:6f48f183-be64-4937-b64c-7eb547d4c68f
CREATED:20260420T081017Z
NAME:Sneeker Dweildag oudega-swf.nl
X-WR-CALNAME:Sneeker Dweildag
X-ALT-DESC;FMTTYPE=text/html:<a href='/agenda/2026/10/3/sneeker-dweildag-126427'>/agenda/2026/10/3/sneeker-dweildag-126427</a> || <p>Zaterdag 3 oktober wordt de stad Sneek dit jaar weer overspoeld door muzikanten uit het gehele land tijdens de 14e editie van de Sneeker Dweildag.&nbsp; De kapellen zijn te vinden in:</p>
<ul>
<li>Marktstraat</li>
<li>Wijde Burgstraat</li>
<li>Scharnestraat – Weduwe Joustra Steeg (valsblaasconcours - vrije speellocatie)</li>
<li>Schaapmarktplein</li>
<li>1e Oosterkade – Café ’t Ouwe Vat (vrije speellocatie)&nbsp;</li>
</ul>
<p>&nbsp;<br />In korte tijd is de Sneeker Dweildag gegroeid tot één van de belangrijkste dweildagen van ons land. De dweilkapellen komen uit het gehele land en manifesteren zich in 2 klassen, de Leutklasse en de Wedstrijdklasse.<br />&nbsp;<br />’s Morgensverzamelen alle muzikanten zich op de Marktstraat waarbij ze, onder genot van een bakje koffie en een koek, even bij kunnen kletsen. Rond 12 uur wordt de Sneeker Dweildag geopend. Vervolgens spelen de kapellen op de 5 locaties in de stad.&nbsp;<br />&nbsp;<br />’s Middags om kwart voor 5 begint op de Marktstraat het finaleprogramma.</p>
DESCRIPTION:<a href='/agenda/2026/10/3/sneeker-dweildag-126427'>/agenda/2026/10/3/sneeker-dweildag-126427</a> || <p>Zaterdag 3 oktober wordt de stad Sneek dit jaar weer overspoeld door muzikanten uit het gehele land tijdens de 14e editie van de Sneeker Dweildag.&nbsp; De kapellen zijn te vinden in:</p>
<ul>
<li>Marktstraat</li>
<li>Wijde Burgstraat</li>
<li>Scharnestraat – Weduwe Joustra Steeg (valsblaasconcours - vrije speellocatie)</li>
<li>Schaapmarktplein</li>
<li>1e Oosterkade – Café ’t Ouwe Vat (vrije speellocatie)&nbsp;</li>
</ul>
<p>&nbsp;<br />In korte tijd is de Sneeker Dweildag gegroeid tot één van de belangrijkste dweildagen van ons land. De dweilkapellen komen uit het gehele land en manifesteren zich in 2 klassen, de Leutklasse en de Wedstrijdklasse.<br />&nbsp;<br />’s Morgensverzamelen alle muzikanten zich op de Marktstraat waarbij ze, onder genot van een bakje koffie en een koek, even bij kunnen kletsen. Rond 12 uur wordt de Sneeker Dweildag geopend. Vervolgens spelen de kapellen op de 5 locaties in de stad.&nbsp;<br />&nbsp;<br />’s Middags om kwart voor 5 begint op de Marktstraat het finaleprogramma.</p>
LAST-MODIFIED:20260420T081017Z
LOCATION: Verschillende locaties | Marktstraat 15 Sneek
SEQUENCE:0
STATUS:CONFIRMED
SUMMARY:Sneeker Dweildag
TRANSP:OPAQUE
END:VEVENT
END:VCALENDAR
