BEGIN:VCALENDAR
PRODID:-//PUBBLE//agenda//NL
VERSION:2.0
METHOD:PUBLISH
BEGIN:VEVENT
DTSTART:20260801T130000Z
DTEND:20260801T200000Z
DTSTAMP:20260421T031245Z
UID:7dd29a49-42f5-4cf4-8e3a-069f2fb27871
CREATED:20260421T031245Z
NAME:Sneekweek Local Vibes oudega-swf.nl
X-WR-CALNAME:Sneekweek Local Vibes
X-ALT-DESC;FMTTYPE=text/html:<a href='/agenda/2026/8/1/sneekweek-local-vibes-126428'>/agenda/2026/8/1/sneekweek-local-vibes-126428</a> || <p>Kom dit jaar weer genieten van ons festival Local Vibes! Leg aan met de boot, kom met de fiets of wandel vanuit de stand onze kant op en kom ontspannen genieten met het hele gezin!</p>
<p>Tickets zijn alleen online verkrijgbaar, dus niet aan de deur. <br /><br />Vanaf 15.00 uur zijn de deuren geopend, de laatste dansjes en drankjes kunnen tot 22.00 uur gedaan.</p>
DESCRIPTION:<a href='/agenda/2026/8/1/sneekweek-local-vibes-126428'>/agenda/2026/8/1/sneekweek-local-vibes-126428</a> || <p>Kom dit jaar weer genieten van ons festival Local Vibes! Leg aan met de boot, kom met de fiets of wandel vanuit de stand onze kant op en kom ontspannen genieten met het hele gezin!</p>
<p>Tickets zijn alleen online verkrijgbaar, dus niet aan de deur. <br /><br />Vanaf 15.00 uur zijn de deuren geopend, de laatste dansjes en drankjes kunnen tot 22.00 uur gedaan.</p>
LAST-MODIFIED:20260421T031245Z
LOCATION: Onbekend | Oude Oppenhuizerweg 55 Sneek
SEQUENCE:0
STATUS:CONFIRMED
SUMMARY:Sneekweek Local Vibes
TRANSP:OPAQUE
END:VEVENT
END:VCALENDAR
