BEGIN:VCALENDAR
PRODID:-//PUBBLE//agenda//NL
VERSION:2.0
METHOD:PUBLISH
BEGIN:VEVENT
DTSTART:20261127T184500Z
DTEND:20261127T213000Z
DTSTAMP:20260420T080934Z
UID:bc17859f-7a88-484a-b2f5-cc62b950390b
CREATED:20260420T080934Z
NAME:Plan Nine oudega-swf.nl
X-WR-CALNAME:Plan Nine
X-ALT-DESC;FMTTYPE=text/html:<a href='/agenda/2026/11/27/plan-nine-126432'>/agenda/2026/11/27/plan-nine-126432</a> || <p><strong>Met een line-up van muzikale zwaargewichten versmelt Plan Nine rauwe rock, klassieke riffs en moderne twists tot een energieke liveshow die onze Arena op zijn kop zet. Met hun diepe, melodische sound, doorleefde lyrics en een unieke balans tussen nostalgie en vernieuwing, weet Plan Nine de fans van progressieve rock en blues keer op keer te boeien.</strong></p>
<p>Fans van zowel rock, prog als blues zullen versteld staan door de krachtige en rauwe stem van Robert Soeterboek en de harmonieuze supporting vocals van Irene Jansen. Beide speelden een hoofdrol in de 5 uitverkochte Ayreon shows in Tilburg. Hun vocalen worden aangevuld door Jane Goulding, de meeslepende solo’s van Marcel Singor, de soulvolle hammondlijnen van Willem Hoving en de diepe bas van Joris Lindner, terwijl Koen Herfst’s vurige drumpartijen zorgen voor ritmische kracht.</p>
<p>Het debuutalbum “The Long Lost Songs”, dat Soeterboek samen met de legendarische muzikant en producer Arjen Lucassen/Ayreon tot stand gebracht, kreeg deze passende naam omdat veel nummers van de plaat al 30 jaar in de ijskast stonden. Het album sloeg direct aan en ontving lovende recensies en stormde naar binnen op nummer 3 in de album Top 100.</p>
<p>--</p>
<p><strong>Voorprogramma: Burning</strong><br />Heavy riffs, catchy hooks en samenzang. Burning uit Groningen maakt heavy metal op hun eigen manier. Invloeden van death metal, thrash metal, maar ook hardrock en old school heavy metal laten de muziek vertrouwd doch verrassend klinken.</p>
DESCRIPTION:<a href='/agenda/2026/11/27/plan-nine-126432'>/agenda/2026/11/27/plan-nine-126432</a> || <p><strong>Met een line-up van muzikale zwaargewichten versmelt Plan Nine rauwe rock, klassieke riffs en moderne twists tot een energieke liveshow die onze Arena op zijn kop zet. Met hun diepe, melodische sound, doorleefde lyrics en een unieke balans tussen nostalgie en vernieuwing, weet Plan Nine de fans van progressieve rock en blues keer op keer te boeien.</strong></p>
<p>Fans van zowel rock, prog als blues zullen versteld staan door de krachtige en rauwe stem van Robert Soeterboek en de harmonieuze supporting vocals van Irene Jansen. Beide speelden een hoofdrol in de 5 uitverkochte Ayreon shows in Tilburg. Hun vocalen worden aangevuld door Jane Goulding, de meeslepende solo’s van Marcel Singor, de soulvolle hammondlijnen van Willem Hoving en de diepe bas van Joris Lindner, terwijl Koen Herfst’s vurige drumpartijen zorgen voor ritmische kracht.</p>
<p>Het debuutalbum “The Long Lost Songs”, dat Soeterboek samen met de legendarische muzikant en producer Arjen Lucassen/Ayreon tot stand gebracht, kreeg deze passende naam omdat veel nummers van de plaat al 30 jaar in de ijskast stonden. Het album sloeg direct aan en ontving lovende recensies en stormde naar binnen op nummer 3 in de album Top 100.</p>
<p>--</p>
<p><strong>Voorprogramma: Burning</strong><br />Heavy riffs, catchy hooks en samenzang. Burning uit Groningen maakt heavy metal op hun eigen manier. Invloeden van death metal, thrash metal, maar ook hardrock en old school heavy metal laten de muziek vertrouwd doch verrassend klinken.</p>
LAST-MODIFIED:20260420T080934Z
LOCATION: Neushoorn Leeuwarden | Ruiterskwartier 41 Leeuwarden
SEQUENCE:0
STATUS:CONFIRMED
SUMMARY:Plan Nine
TRANSP:OPAQUE
END:VEVENT
END:VCALENDAR
