BEGIN:VCALENDAR
PRODID:-//PUBBLE//agenda//NL
VERSION:2.0
METHOD:PUBLISH
BEGIN:VEVENT
DTSTART:20260912T000000Z
DTEND:20260913T000000Z
DTSTAMP:20260420T092604Z
UID:603c6ca4-b897-4803-a6e6-9d8810cddb99
CREATED:20260420T092604Z
NAME:UITfestival SWF | Sneek oudega-swf.nl
X-WR-CALNAME:UITfestival SWF | Sneek
X-ALT-DESC;FMTTYPE=text/html:<a href='/agenda/2026/9/12/uitfestival-swf-sneek-126483'>/agenda/2026/9/12/uitfestival-swf-sneek-126483</a> || <p>Sneek bruist van de activiteiten! Dit jaar vindt het UITfestival in Sneek plaats op 12 en 13 september.</p>
<p>Het festival is verspreid over diverse dorpen en steden in de gemeente Súdwest-Fryslân, waaronder Sneek, Bolsward, Workum, Hindeloopen, IJlst, Witmarsum, Blauwhuis, Goënga, Oudega en Woudsend.&nbsp;<br />Een gevarieerd aanbod van lokale en regionale artiesten, koren, bands, straattheater, toneel, kunstexposities en activiteiten voor kinderen.</p>
DESCRIPTION:<a href='/agenda/2026/9/12/uitfestival-swf-sneek-126483'>/agenda/2026/9/12/uitfestival-swf-sneek-126483</a> || <p>Sneek bruist van de activiteiten! Dit jaar vindt het UITfestival in Sneek plaats op 12 en 13 september.</p>
<p>Het festival is verspreid over diverse dorpen en steden in de gemeente Súdwest-Fryslân, waaronder Sneek, Bolsward, Workum, Hindeloopen, IJlst, Witmarsum, Blauwhuis, Goënga, Oudega en Woudsend.&nbsp;<br />Een gevarieerd aanbod van lokale en regionale artiesten, koren, bands, straattheater, toneel, kunstexposities en activiteiten voor kinderen.</p>
LAST-MODIFIED:20260420T092604Z
LOCATION: Onbekend | Westersingel 28 Sneek
SEQUENCE:0
STATUS:CONFIRMED
SUMMARY:UITfestival SWF | Sneek
TRANSP:OPAQUE
END:VEVENT
END:VCALENDAR
