BEGIN:VCALENDAR
PRODID:-//PUBBLE//agenda//NL
VERSION:2.0
METHOD:PUBLISH
BEGIN:VEVENT
DTSTART:20260605T190000Z
DTEND:20260605T233500Z
DTSTAMP:20260420T064222Z
UID:7e5888fc-003e-4b14-a83d-bc445347f880
CREATED:20260420T064222Z
NAME:Fries StraatFestival oudega-swf.nl
X-WR-CALNAME:Fries StraatFestival
X-ALT-DESC;FMTTYPE=text/html:<a href='/agenda/2026/6/5/fries-straatfestival-126484'>/agenda/2026/6/5/fries-straatfestival-126484</a> || <p>Op 5 en 6 juni 2026 zullen we Leeuwarden weer op zijn kop zetten en brengen we een verrassend programma vol straattheater, circus, dans, live muziek en andere bijzondere installaties en performances!</p>
<p>Dit jaar staat het Fries StraatFestival in het teken van de tussenlanding: het bijzondere moment waarop je even neerstrijkt, midden in de voortdurende beweging van de stad. Tussen vertrek en aankomst wordt de straat ons podium en ontstaat een tijdelijke ruimte om te landen, te kijken en te delen. Een plek waar we stilstaan bij waar we nu zijn, terwijl we ook vooruitblikken naar wat we willen creëren voor de toekomst. Onbekenden worden medereizigers, het alledaagse krijgt een andere kleur en in het hier en nu komen we samen. Om daarna, ieder met nieuwe indrukken en energie, weer onze eigen weg te vervolgen.</p>
DESCRIPTION:<a href='/agenda/2026/6/5/fries-straatfestival-126484'>/agenda/2026/6/5/fries-straatfestival-126484</a> || <p>Op 5 en 6 juni 2026 zullen we Leeuwarden weer op zijn kop zetten en brengen we een verrassend programma vol straattheater, circus, dans, live muziek en andere bijzondere installaties en performances!</p>
<p>Dit jaar staat het Fries StraatFestival in het teken van de tussenlanding: het bijzondere moment waarop je even neerstrijkt, midden in de voortdurende beweging van de stad. Tussen vertrek en aankomst wordt de straat ons podium en ontstaat een tijdelijke ruimte om te landen, te kijken en te delen. Een plek waar we stilstaan bij waar we nu zijn, terwijl we ook vooruitblikken naar wat we willen creëren voor de toekomst. Onbekenden worden medereizigers, het alledaagse krijgt een andere kleur en in het hier en nu komen we samen. Om daarna, ieder met nieuwe indrukken en energie, weer onze eigen weg te vervolgen.</p>
LAST-MODIFIED:20260420T064222Z
LOCATION: Binnenstad Leeuwarden | Ruiterskwartier 4 Leeuwarden
SEQUENCE:0
STATUS:CONFIRMED
SUMMARY:Fries StraatFestival
TRANSP:OPAQUE
END:VEVENT
END:VCALENDAR
