BEGIN:VCALENDAR
PRODID:-//PUBBLE//agenda//NL
VERSION:2.0
METHOD:PUBLISH
BEGIN:VEVENT
DTSTART:20260919T180000Z
DTEND:20260919T200000Z
DTSTAMP:20260420T092819Z
UID:62bee55d-c095-434a-8a5d-327505e16723
CREATED:20260420T092819Z
NAME:Zangduo The Lasses - betoverende folk oudega-swf.nl
X-WR-CALNAME:Zangduo The Lasses - betoverende folk
X-ALT-DESC;FMTTYPE=text/html:<a href='/agenda/2026/9/19/zangduo-the-lasses-betoverende-folk-126529'>/agenda/2026/9/19/zangduo-the-lasses-betoverende-folk-126529</a> || <p>Het Nederlandse duo The Lasses – Sophie Janna en Margot Merah – brengt traditionele Ierse, Schotse en Amerikaanse folk, waarbij vooral de fraaie zangharmonieën opvallen. De twee leerden elkaar in 2011 kennen bij een sessie in een Ierse pub – een vruchtbare ontmoeting, want inmiddels zijn ze 5 albums verder. Met hun pure, oprechte vertolking van het Keltische repertoire en hun innemende eigen nummers staan The Lasses garant voor een betoverend concert. Sophie Janna en Margot Merah tourden de afgelopen jaren de hele wereld over met hun tweestemmige uitvoeringen van Ierse en Schotse folktraditionals. Zichzelf begeleidend op gitaar, tenor-ukulele, shrutibox en bodhrán vormen de stemmen altijd het stralend middelpunt.&nbsp;</p><p><strong>Datum &nbsp; &nbsp; &nbsp; &nbsp; :</strong> zaterdag 19 september 2026, aanvang 20.00 uur</p><p><strong>Entreeprijs:</strong>&nbsp;€ 17,50</p><p><strong>Voor informatie en kaarten:</strong> www.thomastsjerke.nl of info@thomastsjerke.nl&nbsp;</p>
DESCRIPTION:<a href='/agenda/2026/9/19/zangduo-the-lasses-betoverende-folk-126529'>/agenda/2026/9/19/zangduo-the-lasses-betoverende-folk-126529</a> || <p>Het Nederlandse duo The Lasses – Sophie Janna en Margot Merah – brengt traditionele Ierse, Schotse en Amerikaanse folk, waarbij vooral de fraaie zangharmonieën opvallen. De twee leerden elkaar in 2011 kennen bij een sessie in een Ierse pub – een vruchtbare ontmoeting, want inmiddels zijn ze 5 albums verder. Met hun pure, oprechte vertolking van het Keltische repertoire en hun innemende eigen nummers staan The Lasses garant voor een betoverend concert. Sophie Janna en Margot Merah tourden de afgelopen jaren de hele wereld over met hun tweestemmige uitvoeringen van Ierse en Schotse folktraditionals. Zichzelf begeleidend op gitaar, tenor-ukulele, shrutibox en bodhrán vormen de stemmen altijd het stralend middelpunt.&nbsp;</p><p><strong>Datum &nbsp; &nbsp; &nbsp; &nbsp; :</strong> zaterdag 19 september 2026, aanvang 20.00 uur</p><p><strong>Entreeprijs:</strong>&nbsp;€ 17,50</p><p><strong>Voor informatie en kaarten:</strong> www.thomastsjerke.nl of info@thomastsjerke.nl&nbsp;</p>
LAST-MODIFIED:20260420T092819Z
LOCATION: Thomastsjerke Katlijk | Kerkelaan 20 Katlijk
SEQUENCE:0
STATUS:CONFIRMED
SUMMARY:Zangduo The Lasses - betoverende folk
TRANSP:OPAQUE
END:VEVENT
END:VCALENDAR
