BEGIN:VCALENDAR
PRODID:-//PUBBLE//agenda//NL
VERSION:2.0
METHOD:PUBLISH
BEGIN:VEVENT
DTSTART:20260926T193000Z
DTEND:20260926T203000Z
DTSTAMP:20260422T020655Z
UID:ec9dc8a3-5513-4470-b7cb-e16be51c24e7
CREATED:20260422T020655Z
NAME:Concert JuSt Right oudega-swf.nl
X-WR-CALNAME:Concert JuSt Right
X-ALT-DESC;FMTTYPE=text/html:<a href='/agenda/2026/9/26/concert-just-right-126723'>/agenda/2026/9/26/concert-just-right-126723</a> || <p>Wij zijn het muzikale trio JuSt Right. Het trio bestaat uit Simone en Jacobien, beide zang en Roel op gitaar. We spelen samen sinds 2019 en ons repertoire bevat mooie, gevoelige maar ook&nbsp;vlotte/up-tempo liedjes&nbsp;die op elke gelegenheid passend zijn.&nbsp;We spelen covers van Sting, Bløf, Clouseau, Stevie Wonder, Bertolf, Fleetwood Mac, Doe&nbsp;Maar, The Beatles en nog veel meer.&nbsp;We geven graag een eigen draai aan de liedjes, en zo klinkt het precies goed, kortom&nbsp;JuSt Right.</p>
DESCRIPTION:<a href='/agenda/2026/9/26/concert-just-right-126723'>/agenda/2026/9/26/concert-just-right-126723</a> || <p>Wij zijn het muzikale trio JuSt Right. Het trio bestaat uit Simone en Jacobien, beide zang en Roel op gitaar. We spelen samen sinds 2019 en ons repertoire bevat mooie, gevoelige maar ook&nbsp;vlotte/up-tempo liedjes&nbsp;die op elke gelegenheid passend zijn.&nbsp;We spelen covers van Sting, Bløf, Clouseau, Stevie Wonder, Bertolf, Fleetwood Mac, Doe&nbsp;Maar, The Beatles en nog veel meer.&nbsp;We geven graag een eigen draai aan de liedjes, en zo klinkt het precies goed, kortom&nbsp;JuSt Right.</p>
LAST-MODIFIED:20260422T020655Z
LOCATION: Papageno Huis Fryslân | nieuwburen 36 Lemmer
SEQUENCE:0
STATUS:CONFIRMED
SUMMARY:Concert JuSt Right
TRANSP:OPAQUE
END:VEVENT
END:VCALENDAR
