BEGIN:VCALENDAR
PRODID:-//PUBBLE//agenda//NL
VERSION:2.0
METHOD:PUBLISH
BEGIN:VEVENT
DTSTART:20260924T193000Z
DTEND:20260924T220000Z
DTSTAMP:20260420T092318Z
UID:33c747de-7389-4062-b67f-eb18e7d92dd8
CREATED:20260420T092318Z
NAME:Speeddaten Leeuwarden, 25-35j oudega-swf.nl
X-WR-CALNAME:Speeddaten Leeuwarden, 25-35j
X-ALT-DESC;FMTTYPE=text/html:<a href='/agenda/2026/9/24/speeddaten-leeuwarden-25-35j-126734'>/agenda/2026/9/24/speeddaten-leeuwarden-25-35j-126734</a> || <p>Speeddaten is een leuke en laagdrempelige manier om nieuwe mensen te ontmoeten in een ontspannen setting. Tijdens het event zit je per ronde 5 à 7 minuten met iemand aan tafel. Daarna hoor je het belletje en schuiven de mannen door naar de volgende date.<br /><br />Iedereen spreekt elkaar — ideaal als je op zoek bent naar liefde, een leuke klik of gewoon een gezellige avond uit. Na afloop geef je via een handig online matchformulier aan met wie je graag in contact blijft.<br /><br />Of je nu nieuwsgierig bent naar daten in het echt of gewoon zin hebt in een originele avond — speeddaten is altijd een goed idee.</p>
DESCRIPTION:<a href='/agenda/2026/9/24/speeddaten-leeuwarden-25-35j-126734'>/agenda/2026/9/24/speeddaten-leeuwarden-25-35j-126734</a> || <p>Speeddaten is een leuke en laagdrempelige manier om nieuwe mensen te ontmoeten in een ontspannen setting. Tijdens het event zit je per ronde 5 à 7 minuten met iemand aan tafel. Daarna hoor je het belletje en schuiven de mannen door naar de volgende date.<br /><br />Iedereen spreekt elkaar — ideaal als je op zoek bent naar liefde, een leuke klik of gewoon een gezellige avond uit. Na afloop geef je via een handig online matchformulier aan met wie je graag in contact blijft.<br /><br />Of je nu nieuwsgierig bent naar daten in het echt of gewoon zin hebt in een originele avond — speeddaten is altijd een goed idee.</p>
LAST-MODIFIED:20260420T092318Z
LOCATION: Grootte Wielen, Butlan 1 | Leeuwarden  Grootte Wielen, Butlan 1
SEQUENCE:0
STATUS:CONFIRMED
SUMMARY:Speeddaten Leeuwarden, 25-35j
TRANSP:OPAQUE
END:VEVENT
END:VCALENDAR
