BEGIN:VCALENDAR
PRODID:-//PUBBLE//agenda//NL
VERSION:2.0
METHOD:PUBLISH
BEGIN:VEVENT
DTSTART:20261114T080000Z
DTEND:20261114T140000Z
DTSTAMP:20260420T064212Z
UID:ea5e8911-9d1f-48ab-a4f4-b4ecc31053e0
CREATED:20260420T064212Z
NAME:Hobby en cadeaumarkt oudega-swf.nl
X-WR-CALNAME:Hobby en cadeaumarkt
X-ALT-DESC;FMTTYPE=text/html:<a href='/agenda/2026/11/14/hobby-en-cadeaumarkt-126842'>/agenda/2026/11/14/hobby-en-cadeaumarkt-126842</a> || <p>Op Zaterdag 14 November is er weer de welbekende hobby- en cadeaumarkt in de Buorskip in Beetsterzwaag. De vaste stands met hobbymaterialen voor wenskaarten, haak en breigaren, sierkussens, zelfgemaakte wenskaarten en nog vele andere leuke stands met zelfgemaakte artikelen.</p><p>De markt is van 10 tot 16 uur. Entree is gratis.&nbsp;</p>
DESCRIPTION:<a href='/agenda/2026/11/14/hobby-en-cadeaumarkt-126842'>/agenda/2026/11/14/hobby-en-cadeaumarkt-126842</a> || <p>Op Zaterdag 14 November is er weer de welbekende hobby- en cadeaumarkt in de Buorskip in Beetsterzwaag. De vaste stands met hobbymaterialen voor wenskaarten, haak en breigaren, sierkussens, zelfgemaakte wenskaarten en nog vele andere leuke stands met zelfgemaakte artikelen.</p><p>De markt is van 10 tot 16 uur. Entree is gratis.&nbsp;</p>
LAST-MODIFIED:20260420T064212Z
LOCATION: De Buorskip | Vlaslaan 26 Beetsterzwaag
SEQUENCE:0
STATUS:CONFIRMED
SUMMARY:Hobby en cadeaumarkt
TRANSP:OPAQUE
END:VEVENT
END:VCALENDAR
