BEGIN:VCALENDAR
PRODID:-//PUBBLE//agenda//NL
VERSION:2.0
METHOD:PUBLISH
BEGIN:VEVENT
DTSTART:20260926T173000Z
DTEND:20260926T210000Z
DTSTAMP:20260420T093009Z
UID:2c9da3c5-aac3-45b0-b567-db7f6d117642
CREATED:20260420T093009Z
NAME:Aan tafel bij de boer oudega-swf.nl
X-WR-CALNAME:Aan tafel bij de boer
X-ALT-DESC;FMTTYPE=text/html:<a href='/agenda/2026/9/26/aan-tafel-bij-de-boer-126845'>/agenda/2026/9/26/aan-tafel-bij-de-boer-126845</a> || <p><strong>Ontdek het verhaal achter ‘t Schippershuis eigen Friese meren rund, terwijl je culinair geniet!<br /><br /></strong>Ons geliefde event&nbsp;<em>Bij de boer aan tafel</em>&nbsp;keert dit jaar terug voor de derde keer. Tijdens deze bijzondere avond dineer je op een prachtige boerderij en ontdek je het verhaal achter ons eigen Friese meren rund.<br />Geniet van een uitgebreid 4-gangen diner met bijpassende wijnen, terwijl onze boer vertelt over het leven op de boerderij. Je dineert samen met vrienden of familie, letterlijk in de schuur, dichtbij de koeien in het weiland. Een avond waar het pure buitenleven en de trots van ’t Schippershuis samenkomen.</p>
<p><strong>Details van het evenement:</strong></p>
<ul>
<li><strong>Datum</strong>: Zaterdag 26 september 2025</li>
<li><strong>Adres</strong>: Plûsterdyk 9, Broek</li>
<li><strong>Aanvang</strong>: Tussen 17:30 en 18:00 uur</li>
</ul>
<p>Reserveren is gewenst, want vol is vol!</p>
DESCRIPTION:<a href='/agenda/2026/9/26/aan-tafel-bij-de-boer-126845'>/agenda/2026/9/26/aan-tafel-bij-de-boer-126845</a> || <p><strong>Ontdek het verhaal achter ‘t Schippershuis eigen Friese meren rund, terwijl je culinair geniet!<br /><br /></strong>Ons geliefde event&nbsp;<em>Bij de boer aan tafel</em>&nbsp;keert dit jaar terug voor de derde keer. Tijdens deze bijzondere avond dineer je op een prachtige boerderij en ontdek je het verhaal achter ons eigen Friese meren rund.<br />Geniet van een uitgebreid 4-gangen diner met bijpassende wijnen, terwijl onze boer vertelt over het leven op de boerderij. Je dineert samen met vrienden of familie, letterlijk in de schuur, dichtbij de koeien in het weiland. Een avond waar het pure buitenleven en de trots van ’t Schippershuis samenkomen.</p>
<p><strong>Details van het evenement:</strong></p>
<ul>
<li><strong>Datum</strong>: Zaterdag 26 september 2025</li>
<li><strong>Adres</strong>: Plûsterdyk 9, Broek</li>
<li><strong>Aanvang</strong>: Tussen 17:30 en 18:00 uur</li>
</ul>
<p>Reserveren is gewenst, want vol is vol!</p>
LAST-MODIFIED:20260420T093009Z
LOCATION: Onbekend | Buorren 69 Terherne
SEQUENCE:0
STATUS:CONFIRMED
SUMMARY:Aan tafel bij de boer
TRANSP:OPAQUE
END:VEVENT
END:VCALENDAR
