BEGIN:VCALENDAR
PRODID:-//PUBBLE//agenda//NL
VERSION:2.0
METHOD:PUBLISH
BEGIN:VEVENT
DTSTART:20261024T100000Z
DTEND:20261024T163000Z
DTSTAMP:20260420T080934Z
UID:44e030bf-9817-4dad-8039-2c2efc8bb0b2
CREATED:20260420T080934Z
NAME:Workshop Klankschalen oudega-swf.nl
X-WR-CALNAME:Workshop Klankschalen
X-ALT-DESC;FMTTYPE=text/html:<a href='/agenda/2026/10/24/workshop-klankschalen-127036'>/agenda/2026/10/24/workshop-klankschalen-127036</a> || <p>Deze dag kun je verschillende ervaringen opdoen met klankschalen. Er zijn voldoende instrumenten om mee te werken. Klankspelen worden afgewisseld met basisinformatie&nbsp; over klankschalen. We sluiten de workshop af met een heerlijke klankontspanning.&nbsp;</p>
<p>Voor veel mensen is deze workshop een eerste kennismaking met klankschalen. Professionals in zorg- en welzijnswerk leren hoe ze deze instrumenten kunnen inzetten bij hun werk.<br /><br />De nadruk ligt op het doen van spelvormen voor verschillende doelgroepen. Je krijgt tips voor het gebruiken van klank bij de verzorging van cliënten of gezinsleden. Je leert hoe je de klankschaal voor jezelf kunt gebruiken. Jouw gezondheid en welzijn zijn immers net zo belangrijk als die van je cliënten.</p>
<p><strong>Na deze workshop ken je</strong><br />•&nbsp; &nbsp; Toepassingen van klankschalen thuis en in zorg- en welzijnswerk<br />•&nbsp;&nbsp;&nbsp; De verschillen tussen de meest gebruikte klankschalen <br />•&nbsp;&nbsp;&nbsp; Werkvormen voor jezelf, je gezinsleden en je collega’s <br />•&nbsp;&nbsp;&nbsp; Klankoefeningen die je samen kunt doen<br />•&nbsp;&nbsp;&nbsp; Ontwikkelingsgerichte spelvormen met een klankschaal</p>
<p><br /><strong>Na deze workshop kun je</strong><br />•&nbsp;&nbsp;&nbsp; Veilig en verstandig omgaan met een klankschaal, thuis en op je werk<br />•&nbsp;&nbsp;&nbsp; De juiste klankschaal kiezen in relatie met je doel<br />•&nbsp;&nbsp;&nbsp; Een klankschaal gebruiken voor plezier en ontspanning van jezelf, cliënten en collega’s<br />•&nbsp;&nbsp;&nbsp; Eenvoudige spelvormen en klanktechnieken aanbieden</p>
DESCRIPTION:<a href='/agenda/2026/10/24/workshop-klankschalen-127036'>/agenda/2026/10/24/workshop-klankschalen-127036</a> || <p>Deze dag kun je verschillende ervaringen opdoen met klankschalen. Er zijn voldoende instrumenten om mee te werken. Klankspelen worden afgewisseld met basisinformatie&nbsp; over klankschalen. We sluiten de workshop af met een heerlijke klankontspanning.&nbsp;</p>
<p>Voor veel mensen is deze workshop een eerste kennismaking met klankschalen. Professionals in zorg- en welzijnswerk leren hoe ze deze instrumenten kunnen inzetten bij hun werk.<br /><br />De nadruk ligt op het doen van spelvormen voor verschillende doelgroepen. Je krijgt tips voor het gebruiken van klank bij de verzorging van cliënten of gezinsleden. Je leert hoe je de klankschaal voor jezelf kunt gebruiken. Jouw gezondheid en welzijn zijn immers net zo belangrijk als die van je cliënten.</p>
<p><strong>Na deze workshop ken je</strong><br />•&nbsp; &nbsp; Toepassingen van klankschalen thuis en in zorg- en welzijnswerk<br />•&nbsp;&nbsp;&nbsp; De verschillen tussen de meest gebruikte klankschalen <br />•&nbsp;&nbsp;&nbsp; Werkvormen voor jezelf, je gezinsleden en je collega’s <br />•&nbsp;&nbsp;&nbsp; Klankoefeningen die je samen kunt doen<br />•&nbsp;&nbsp;&nbsp; Ontwikkelingsgerichte spelvormen met een klankschaal</p>
<p><br /><strong>Na deze workshop kun je</strong><br />•&nbsp;&nbsp;&nbsp; Veilig en verstandig omgaan met een klankschaal, thuis en op je werk<br />•&nbsp;&nbsp;&nbsp; De juiste klankschaal kiezen in relatie met je doel<br />•&nbsp;&nbsp;&nbsp; Een klankschaal gebruiken voor plezier en ontspanning van jezelf, cliënten en collega’s<br />•&nbsp;&nbsp;&nbsp; Eenvoudige spelvormen en klanktechnieken aanbieden</p>
LAST-MODIFIED:20260420T080934Z
LOCATION: Onbekend | Tingietersstraat 8 Sneek
SEQUENCE:0
STATUS:CONFIRMED
SUMMARY:Workshop Klankschalen
TRANSP:OPAQUE
END:VEVENT
END:VCALENDAR
