BEGIN:VCALENDAR
PRODID:-//PUBBLE//agenda//NL
VERSION:2.0
METHOD:PUBLISH
BEGIN:VEVENT
DTSTART:20261115T193000Z
DTEND:20261115T000000Z
DTSTAMP:20260422T084750Z
UID:14b35711-475e-45bd-80d1-f6fe0602492a
CREATED:20260422T084750Z
NAME:Century’s Crime - The most authentic tribute to Supertramp oudega-swf.nl
X-WR-CALNAME:Century’s Crime - The most authentic tribute to Supertramp
X-ALT-DESC;FMTTYPE=text/html:<a href='/agenda/2026/11/15/centurys-crime-the-most-authentic-tribute-to-supertramp-129103'>/agenda/2026/11/15/centurys-crime-the-most-authentic-tribute-to-supertramp-129103</a> || <p><strong>Century’s Crime is een eerbetoon aan de klassieke line-up van Supertramp en hun succesverhaal van 1974 tot 1983. Tijdens hun liveconcerten spelen ze de hele zaal plat met klassieke nummers en wereldberoemde hits. Omdat ze zelf diehard Supertramp-fans zijn, hoor je die liefde voor de muziek in alles terug.</strong></p>
<p>In 1974 bracht Supertramp het album Crime of the Century uit en brak de band door in de hitlijsten met Dreamer. Inmiddels is Supertramp vastgemetseld in de geschiedenis van de rock- en popmuziek. Je hoort herkenbare vocals, glunderende piano’s en fantastisch saxofoonwerk. Die Supertramp-sound is nog altijd meteen herkenbaar en heeft voor veel mensen een speciaal plekje in hun hart. Century’s Crime komt daar eng dichtbij in de buurt en krijgt lovende reviews van critici én bezoekers. De avond zit vol hits als Breakfast in America, Goodbye Stranger, School en It’s Raining Again. Maar geen zorgen! In onze Grote Zaal gaat het niet regenen, behalve misschien tranen van geluk.</p>
DESCRIPTION:<a href='/agenda/2026/11/15/centurys-crime-the-most-authentic-tribute-to-supertramp-129103'>/agenda/2026/11/15/centurys-crime-the-most-authentic-tribute-to-supertramp-129103</a> || <p><strong>Century’s Crime is een eerbetoon aan de klassieke line-up van Supertramp en hun succesverhaal van 1974 tot 1983. Tijdens hun liveconcerten spelen ze de hele zaal plat met klassieke nummers en wereldberoemde hits. Omdat ze zelf diehard Supertramp-fans zijn, hoor je die liefde voor de muziek in alles terug.</strong></p>
<p>In 1974 bracht Supertramp het album Crime of the Century uit en brak de band door in de hitlijsten met Dreamer. Inmiddels is Supertramp vastgemetseld in de geschiedenis van de rock- en popmuziek. Je hoort herkenbare vocals, glunderende piano’s en fantastisch saxofoonwerk. Die Supertramp-sound is nog altijd meteen herkenbaar en heeft voor veel mensen een speciaal plekje in hun hart. Century’s Crime komt daar eng dichtbij in de buurt en krijgt lovende reviews van critici én bezoekers. De avond zit vol hits als Breakfast in America, Goodbye Stranger, School en It’s Raining Again. Maar geen zorgen! In onze Grote Zaal gaat het niet regenen, behalve misschien tranen van geluk.</p>
LAST-MODIFIED:20260422T084750Z
LOCATION: Neushoorn Leeuwarden | Ruiterskwartier 41 Leeuwarden
SEQUENCE:0
STATUS:CONFIRMED
SUMMARY:Century’s Crime - The most authentic tribute to Supertramp
TRANSP:OPAQUE
END:VEVENT
END:VCALENDAR
