BEGIN:VCALENDAR
PRODID:-//PUBBLE//agenda//NL
VERSION:2.0
METHOD:PUBLISH
BEGIN:VEVENT
DTSTART:20261120T194500Z
DTEND:20261120T000000Z
DTSTAMP:20260420T080331Z
UID:6a83747b-2872-4c67-9920-bf64c2b31e32
CREATED:20260420T080331Z
NAME:The BluesBones oudega-swf.nl
X-WR-CALNAME:The BluesBones
X-ALT-DESC;FMTTYPE=text/html:<a href='/agenda/2026/11/20/the-bluesbones-129128'>/agenda/2026/11/20/the-bluesbones-129128</a> || <p><strong>Onze zuiderburen komen niet alleen aanzetten met legendarisch bier, maar ook met een bluescultuur waar je u tegen zegt. In België leeft de blues gewoon nog echt, met plekken zoals Gent waar je als muzikant ouderwets kunt jammen in een café. Uit die voedingsbodem komt Bluesbones. Eén van de meest succesvolle bluesrockbands van de laatste tien jaar, met meer dan 700 shows op de teller door heel Europa.</strong></p>
<p>Bluesbones bestaat uit vijf muzikanten die hun kilometers hebben gemaakt in blues, bluesrock, rock en alles wat daartussen kruipt. Ze bewegen door een breed spectrum, van stevige bluesrock naar gevoelige ballads en af en toe een progressievere afslag. Dat brede palet leverde ze een stevige fanbase op. Hun plaat Unchained namen ze bewust live in de studio op, omdat juist dat rauwe samenspel is waar ze in uitblinken, en die belandde in april 2023 zelfs op nummer 1 in de IBBA Top 40.</p>
DESCRIPTION:<a href='/agenda/2026/11/20/the-bluesbones-129128'>/agenda/2026/11/20/the-bluesbones-129128</a> || <p><strong>Onze zuiderburen komen niet alleen aanzetten met legendarisch bier, maar ook met een bluescultuur waar je u tegen zegt. In België leeft de blues gewoon nog echt, met plekken zoals Gent waar je als muzikant ouderwets kunt jammen in een café. Uit die voedingsbodem komt Bluesbones. Eén van de meest succesvolle bluesrockbands van de laatste tien jaar, met meer dan 700 shows op de teller door heel Europa.</strong></p>
<p>Bluesbones bestaat uit vijf muzikanten die hun kilometers hebben gemaakt in blues, bluesrock, rock en alles wat daartussen kruipt. Ze bewegen door een breed spectrum, van stevige bluesrock naar gevoelige ballads en af en toe een progressievere afslag. Dat brede palet leverde ze een stevige fanbase op. Hun plaat Unchained namen ze bewust live in de studio op, omdat juist dat rauwe samenspel is waar ze in uitblinken, en die belandde in april 2023 zelfs op nummer 1 in de IBBA Top 40.</p>
LAST-MODIFIED:20260420T080331Z
LOCATION: Neushoorn Leeuwarden | Ruiterskwartier 41 Leeuwarden
SEQUENCE:0
STATUS:CONFIRMED
SUMMARY:The BluesBones
TRANSP:OPAQUE
END:VEVENT
END:VCALENDAR
