BEGIN:VCALENDAR
PRODID:-//PUBBLE//agenda//NL
VERSION:2.0
METHOD:PUBLISH
BEGIN:VEVENT
DTSTART:20260429T100000Z
DTEND:20260429T113000Z
DTSTAMP:20260420T063558Z
UID:fd79f91d-aff8-4b85-bf03-ef0748d5af15
CREATED:20260420T063558Z
NAME:Bieb Café Digitaal Lemmer: AI voor beginners oudega-swf.nl
X-WR-CALNAME:Bieb Café Digitaal Lemmer: AI voor beginners
X-ALT-DESC;FMTTYPE=text/html:<a href='/agenda/2026/4/29/bieb-cafe-digitaal-lemmer-ai-voor-beginners-129561'>/agenda/2026/4/29/bieb-cafe-digitaal-lemmer-ai-voor-beginners-129561</a> || <p>Je hoort de termen AI en kunstmatige intelligentie steeds vaker, maar wat betekent het nu echt voor jou? In dit Bieb Café legt domeinspecialist digitaal burgerschap Marije Doornbos op een heldere en laagdrempelige manier uit wat AI is, waar je het in het dagelijks leven al tegenkomt en welke kansen en risico’s ermee samenhangen.</p>
<p>Zonder ingewikkelde techniek, maar met voorbeelden, praktische tips en ruimte voor vragen. We sluiten af met een kleine AI-proeverij, waarin je zelf verschillende toepassingen kunt uitproberen en vergelijken. Zo ga je naar huis met meer grip op digitale ontwikkelingen én handige ideeën voor thuis.</p>
<p>Inloop vanaf 09.45 uur in Dienstencentrum Senioren in Lemmer. Opgave via Bert Schotanus 0514 - 563566. Kosten voor koffie en/of thee bedragen €2,50 en dienen ter plekke worden afgerekend.</p>
<p>Bieb Café (Digitaal) Lemmer organiseert elke maand in samenwerking met Dienstencentrum Senioren een lezing of workshop.</p>
DESCRIPTION:<a href='/agenda/2026/4/29/bieb-cafe-digitaal-lemmer-ai-voor-beginners-129561'>/agenda/2026/4/29/bieb-cafe-digitaal-lemmer-ai-voor-beginners-129561</a> || <p>Je hoort de termen AI en kunstmatige intelligentie steeds vaker, maar wat betekent het nu echt voor jou? In dit Bieb Café legt domeinspecialist digitaal burgerschap Marije Doornbos op een heldere en laagdrempelige manier uit wat AI is, waar je het in het dagelijks leven al tegenkomt en welke kansen en risico’s ermee samenhangen.</p>
<p>Zonder ingewikkelde techniek, maar met voorbeelden, praktische tips en ruimte voor vragen. We sluiten af met een kleine AI-proeverij, waarin je zelf verschillende toepassingen kunt uitproberen en vergelijken. Zo ga je naar huis met meer grip op digitale ontwikkelingen én handige ideeën voor thuis.</p>
<p>Inloop vanaf 09.45 uur in Dienstencentrum Senioren in Lemmer. Opgave via Bert Schotanus 0514 - 563566. Kosten voor koffie en/of thee bedragen €2,50 en dienen ter plekke worden afgerekend.</p>
<p>Bieb Café (Digitaal) Lemmer organiseert elke maand in samenwerking met Dienstencentrum Senioren een lezing of workshop.</p>
LAST-MODIFIED:20260420T063558Z
LOCATION: Dienstencentrum Senioren | Wiepke Hofstraat 8 Lemmer
SEQUENCE:0
STATUS:CONFIRMED
SUMMARY:Bieb Café Digitaal Lemmer: AI voor beginners
TRANSP:OPAQUE
END:VEVENT
END:VCALENDAR
