BEGIN:VCALENDAR
PRODID:-//PUBBLE//agenda//NL
VERSION:2.0
METHOD:PUBLISH
BEGIN:VEVENT
DTSTART:20260602T104000Z
DTEND:20260607T104000Z
DTSTAMP:20260420T150230Z
UID:0b73e00d-57af-4691-8389-d29c7bbdbf25
CREATED:20260420T150230Z
NAME:Iepenloftspul ‘Aventoerepark Okke Hel’ in Witmarsum oudega-swf.nl
X-WR-CALNAME:Iepenloftspul ‘Aventoerepark Okke Hel’ in Witmarsum
X-ALT-DESC;FMTTYPE=text/html:<a href='/agenda/2026/6/2/iepenloftspul-aventoerepark-okke-hel-in-witmarsum-129588'>/agenda/2026/6/2/iepenloftspul-aventoerepark-okke-hel-in-witmarsum-129588</a> || <p>In de eerste week van juni wordt in Witmarsum het Iepenloftspul ‘Aventoerepark Okke Hel’ uitgevoerd. Het verhaal gaat over de pogingen van de eigenaren om het eens zo bloeiende, maar nu verwaarloosde park weer aantrekkelijk te maken. Daarbij worden ze geholpen door de verschijning van de naamgever van het park, de legendarische zeebonk Okke Hel. Eeuwen geleden zonk zijn schip in een vliegende storm op de plek waar nu, even buiten Witmarsum, in het weiland het themapark staat.&nbsp;</p><p>Gedragen door het dorp</p><p>Bij de voorbereidingen en de uitvoeringen zijn het Popkoar Wytmarsum, het koor Scheppingsgave, het muziekkorps Nij Libben de de toneelvereniging Surprise betrokken. En veel dorpsgenoten zetten zich in als vrijwilliger voor het maken van het decor, de kostuums en al het andere dat nodig is om er een mooie voorstelling van te maken.</p><p>Datum en kaartverkoop</p><p>Het Iepenloftsspul vindt plaats op 2,3,5 en 6 juni 2026 van 20.30 tot 22.00 uur. En op 7 juni van 14.30 tot 17.00 uur. Kaarten à 15 euro per persoon kunnen besteld worden via <a href="//www.surprisewitmarsum.nl" rel="noopener noreferrer" target="_blank">www.surprisewitmarsum.nl</a></p>
DESCRIPTION:<a href='/agenda/2026/6/2/iepenloftspul-aventoerepark-okke-hel-in-witmarsum-129588'>/agenda/2026/6/2/iepenloftspul-aventoerepark-okke-hel-in-witmarsum-129588</a> || <p>In de eerste week van juni wordt in Witmarsum het Iepenloftspul ‘Aventoerepark Okke Hel’ uitgevoerd. Het verhaal gaat over de pogingen van de eigenaren om het eens zo bloeiende, maar nu verwaarloosde park weer aantrekkelijk te maken. Daarbij worden ze geholpen door de verschijning van de naamgever van het park, de legendarische zeebonk Okke Hel. Eeuwen geleden zonk zijn schip in een vliegende storm op de plek waar nu, even buiten Witmarsum, in het weiland het themapark staat.&nbsp;</p><p>Gedragen door het dorp</p><p>Bij de voorbereidingen en de uitvoeringen zijn het Popkoar Wytmarsum, het koor Scheppingsgave, het muziekkorps Nij Libben de de toneelvereniging Surprise betrokken. En veel dorpsgenoten zetten zich in als vrijwilliger voor het maken van het decor, de kostuums en al het andere dat nodig is om er een mooie voorstelling van te maken.</p><p>Datum en kaartverkoop</p><p>Het Iepenloftsspul vindt plaats op 2,3,5 en 6 juni 2026 van 20.30 tot 22.00 uur. En op 7 juni van 14.30 tot 17.00 uur. Kaarten à 15 euro per persoon kunnen besteld worden via <a href="//www.surprisewitmarsum.nl" rel="noopener noreferrer" target="_blank">www.surprisewitmarsum.nl</a></p>
LAST-MODIFIED:20260420T150230Z
LOCATION: Kamperweg 12 | Kamperweg 12 Witmarsum
SEQUENCE:0
STATUS:CONFIRMED
SUMMARY:Iepenloftspul ‘Aventoerepark Okke Hel’ in Witmarsum
TRANSP:OPAQUE
END:VEVENT
END:VCALENDAR
