BEGIN:VCALENDAR
PRODID:-//PUBBLE//agenda//NL
VERSION:2.0
METHOD:PUBLISH
BEGIN:VEVENT
DTSTART:20260502T110000Z
DTEND:20260502T150000Z
DTSTAMP:20260420T092153Z
UID:bd25a24c-0422-41eb-89b9-04a099518d51
CREATED:20260420T092153Z
NAME:Open Joodse Huizen | Huizen van Verzet oudega-swf.nl
X-WR-CALNAME:Open Joodse Huizen | Huizen van Verzet
X-ALT-DESC;FMTTYPE=text/html:<a href='/agenda/2026/5/2/open-joodse-huizen-huizen-van-verzet-129679'>/agenda/2026/5/2/open-joodse-huizen-huizen-van-verzet-129679</a> || <p>Op zaterdag 2 mei worden op vier locaties de verhalen verteld van Joden en verzetsmensen die woonden en werkten in de binnenstad van Sneek. Mensen die -bij wijze van spreken- je buren hadden kunnen zijn.</p>
<p><strong>Openbare Bibliotheek</strong>, Wijde Noorderhorne 1<br /><em>11.00 uur, 12.00 uur</em><br />Matthijs Graafland vertelt over de Joodse arts Leopold Herzberger, initiatiefnemer van de oprichting van deze bibliotheek, en over de synagoge die aan de Wijde Burgstraat stond en na de oorlog is afgebroken.<br /><br /><strong>Fries Scheepvaart Museum</strong>,&nbsp;Kleinzand 16<br /><em>11.00, 12.00 en 13.00 uur&nbsp;</em><br />Sietse Wierda vertelt over de prijs die de verzetsfamilie Lever betaalde voor hun moedige keuzes.<br /><br /><strong>Doopsgezinde kerk</strong>, Singel 28<br /><em>12.00, 13.00 en 14.00 uur</em><br />John Ebink vertelt hoe Joodse kinderen, onder wie Fred van Vliet, via deze kerk onderdak kregen in Sneek.<br /><br /><strong>Parkeerterrein bij voormalig Café Vellinga,</strong> Korte Veemarktstraat 10<br /><em>13.00 en 14.00 uur</em><br />Ymo Sinnema vertelt het verhaal van Jacob en Erna Pino en hun dochtertje Mechgelien die hier hun café en hotel runden.</p>
<p><strong>Over Open Joodse Huizen | Huizen van Verzet</strong></p>
<p>Open Joodse Huizen | Huizen van Verzet is een jaarlijks programma van herdenkingsbijeenkomsten in huizen, winkels, scholen en andere plekken waar Joden en verzetsmensen tijdens de Tweede Wereldoorlog woonden en werkten.<br /><br />In woonkamers, op zolder, achter toonbanken en tussen schuifdeuren maak je kennis met slachtoffers, overlevenden en verzetsstrijders. Wie waren ze? Hoe leefden ze? Waar verschuilden ze zich? En wat is er van hen geworden? Met het afnemen van het aantal levende ooggetuigen wordt de urgentie van het delen van deze verhalen steeds groter.</p>
DESCRIPTION:<a href='/agenda/2026/5/2/open-joodse-huizen-huizen-van-verzet-129679'>/agenda/2026/5/2/open-joodse-huizen-huizen-van-verzet-129679</a> || <p>Op zaterdag 2 mei worden op vier locaties de verhalen verteld van Joden en verzetsmensen die woonden en werkten in de binnenstad van Sneek. Mensen die -bij wijze van spreken- je buren hadden kunnen zijn.</p>
<p><strong>Openbare Bibliotheek</strong>, Wijde Noorderhorne 1<br /><em>11.00 uur, 12.00 uur</em><br />Matthijs Graafland vertelt over de Joodse arts Leopold Herzberger, initiatiefnemer van de oprichting van deze bibliotheek, en over de synagoge die aan de Wijde Burgstraat stond en na de oorlog is afgebroken.<br /><br /><strong>Fries Scheepvaart Museum</strong>,&nbsp;Kleinzand 16<br /><em>11.00, 12.00 en 13.00 uur&nbsp;</em><br />Sietse Wierda vertelt over de prijs die de verzetsfamilie Lever betaalde voor hun moedige keuzes.<br /><br /><strong>Doopsgezinde kerk</strong>, Singel 28<br /><em>12.00, 13.00 en 14.00 uur</em><br />John Ebink vertelt hoe Joodse kinderen, onder wie Fred van Vliet, via deze kerk onderdak kregen in Sneek.<br /><br /><strong>Parkeerterrein bij voormalig Café Vellinga,</strong> Korte Veemarktstraat 10<br /><em>13.00 en 14.00 uur</em><br />Ymo Sinnema vertelt het verhaal van Jacob en Erna Pino en hun dochtertje Mechgelien die hier hun café en hotel runden.</p>
<p><strong>Over Open Joodse Huizen | Huizen van Verzet</strong></p>
<p>Open Joodse Huizen | Huizen van Verzet is een jaarlijks programma van herdenkingsbijeenkomsten in huizen, winkels, scholen en andere plekken waar Joden en verzetsmensen tijdens de Tweede Wereldoorlog woonden en werkten.<br /><br />In woonkamers, op zolder, achter toonbanken en tussen schuifdeuren maak je kennis met slachtoffers, overlevenden en verzetsstrijders. Wie waren ze? Hoe leefden ze? Waar verschuilden ze zich? En wat is er van hen geworden? Met het afnemen van het aantal levende ooggetuigen wordt de urgentie van het delen van deze verhalen steeds groter.</p>
LAST-MODIFIED:20260420T092153Z
LOCATION: Fries Scheepvaart Museum Sneek | Kleinzand 16 Sneek
SEQUENCE:0
STATUS:CONFIRMED
SUMMARY:Open Joodse Huizen | Huizen van Verzet
TRANSP:OPAQUE
END:VEVENT
END:VCALENDAR
