BEGIN:VCALENDAR
PRODID:-//PUBBLE//agenda//NL
VERSION:2.0
METHOD:PUBLISH
BEGIN:VEVENT
DTSTART:20260530T200000Z
DTEND:20260530T210000Z
DTSTAMP:20260420T063405Z
UID:7b4777d4-05d8-425c-ad3b-1c2db167085d
CREATED:20260420T063405Z
NAME:Optreden Folkkoor RollingHome & Gemengd Koor Evergreens oudega-swf.nl
X-WR-CALNAME:Optreden Folkkoor RollingHome & Gemengd Koor Evergreens
X-ALT-DESC;FMTTYPE=text/html:<a href='/agenda/2026/5/30/optreden-folkkoor-rollinghome-gemengd-koor-evergreens-129680'>/agenda/2026/5/30/optreden-folkkoor-rollinghome-gemengd-koor-evergreens-129680</a> || <p>Op zaterdagavond 30 mei 2026 geven Folkkoor Rolling Home en Gemengd Koor Evergreens uit Sneek samen een optreden in MFC De Spil.&nbsp;Tijdens deze avond brengen beide koren een afwisselend programma met folk en pop. Naast hun eigen repertoire zingen ze ook een aantal nummers samen.</p>
<p>De avond begint om 20.00 uur en de zaal gaat open om 19.30. De locatie is MFC De Spil aan de Molenkrite 169 in Sneek.&nbsp;Kaarten kosten €10 en zijn vooraf te bestellen via <a>www.ticketkantoor.nl/shop/folk-meets-pop</a>. Je kunt ook kaarten kopen bij Halfords aan de Oosterdijk in Sneek en op de avond zelf aan de deur zolang er plek is.</p>
<p>Kom langs en geniet van een gezellige muzikale avond!</p>
DESCRIPTION:<a href='/agenda/2026/5/30/optreden-folkkoor-rollinghome-gemengd-koor-evergreens-129680'>/agenda/2026/5/30/optreden-folkkoor-rollinghome-gemengd-koor-evergreens-129680</a> || <p>Op zaterdagavond 30 mei 2026 geven Folkkoor Rolling Home en Gemengd Koor Evergreens uit Sneek samen een optreden in MFC De Spil.&nbsp;Tijdens deze avond brengen beide koren een afwisselend programma met folk en pop. Naast hun eigen repertoire zingen ze ook een aantal nummers samen.</p>
<p>De avond begint om 20.00 uur en de zaal gaat open om 19.30. De locatie is MFC De Spil aan de Molenkrite 169 in Sneek.&nbsp;Kaarten kosten €10 en zijn vooraf te bestellen via <a>www.ticketkantoor.nl/shop/folk-meets-pop</a>. Je kunt ook kaarten kopen bij Halfords aan de Oosterdijk in Sneek en op de avond zelf aan de deur zolang er plek is.</p>
<p>Kom langs en geniet van een gezellige muzikale avond!</p>
LAST-MODIFIED:20260420T063405Z
LOCATION: Wijkvereniging de Spil | Molenkrite 169 Sneek
SEQUENCE:0
STATUS:CONFIRMED
SUMMARY:Optreden Folkkoor RollingHome & Gemengd Koor Evergreens
TRANSP:OPAQUE
END:VEVENT
END:VCALENDAR
