BEGIN:VCALENDAR
PRODID:-//PUBBLE//agenda//NL
VERSION:2.0
METHOD:PUBLISH
BEGIN:VEVENT
DTSTART:20260528T100000Z
DTEND:20260528T180000Z
DTSTAMP:20260420T150230Z
UID:bad9ab17-86e2-4bc9-9248-38cf061029b8
CREATED:20260420T150230Z
NAME:Crazy Drums workshops in de Elfstedenhal oudega-swf.nl
X-WR-CALNAME:Crazy Drums workshops in de Elfstedenhal
X-ALT-DESC;FMTTYPE=text/html:<a href='/agenda/2026/5/28/crazy-drums-workshops-in-de-elfstedenhal-129683'>/agenda/2026/5/28/crazy-drums-workshops-in-de-elfstedenhal-129683</a> || <p>Een bijzondere ervaring op een iconische locatie: waar normaal wordt geschaatst, nemen nu 25 drumstellen het ijs over. Drumming on ice, maar dan zonder ijs.<br /><br />In één uur tijd leer je de basis van het drummen en speel je samen mee met bekende hits van toen en nu. Muzikale ervaring is niet nodig, iedereen kan meedoen.<br /><br />De workshops op 28 en 29 mei zijn te boeken voor scholen en bedrijven.<br />30 mei is speciaal bedoeld voor individuen, families en vriendengroepen.<br />Voor bedrijven zijn er extra mogelijkheden, zoals het gebruik van een vergaderruimte en het bijboeken van een lunch of borrel.</p>
DESCRIPTION:<a href='/agenda/2026/5/28/crazy-drums-workshops-in-de-elfstedenhal-129683'>/agenda/2026/5/28/crazy-drums-workshops-in-de-elfstedenhal-129683</a> || <p>Een bijzondere ervaring op een iconische locatie: waar normaal wordt geschaatst, nemen nu 25 drumstellen het ijs over. Drumming on ice, maar dan zonder ijs.<br /><br />In één uur tijd leer je de basis van het drummen en speel je samen mee met bekende hits van toen en nu. Muzikale ervaring is niet nodig, iedereen kan meedoen.<br /><br />De workshops op 28 en 29 mei zijn te boeken voor scholen en bedrijven.<br />30 mei is speciaal bedoeld voor individuen, families en vriendengroepen.<br />Voor bedrijven zijn er extra mogelijkheden, zoals het gebruik van een vergaderruimte en het bijboeken van een lunch of borrel.</p>
LAST-MODIFIED:20260420T150230Z
LOCATION: De Elfstedenhal | Fryslânplein 1 Leeuwarden
SEQUENCE:0
STATUS:CONFIRMED
SUMMARY:Crazy Drums workshops in de Elfstedenhal
TRANSP:OPAQUE
END:VEVENT
END:VCALENDAR
