BEGIN:VCALENDAR
PRODID:-//PUBBLE//agenda//NL
VERSION:2.0
METHOD:PUBLISH
BEGIN:VEVENT
DTSTART:20260502T183000Z
DTEND:20260502T223000Z
DTSTAMP:20260422T085236Z
UID:658288b3-74d1-46ef-8d0a-607482e82c72
CREATED:20260422T085236Z
NAME:Folkskeuken Turkije oudega-swf.nl
X-WR-CALNAME:Folkskeuken Turkije
X-ALT-DESC;FMTTYPE=text/html:<a href='/agenda/2026/5/2/folkskeuken-turkije-129685'>/agenda/2026/5/2/folkskeuken-turkije-129685</a> || <p>Op deze avond nemen hosts Nurten en Zeynep je mee in hun wereld. Samen met chefs Sultan, Hatice, Ayse, Fatma en Meral bereiden zij enkele van hun favoriete Turkse gerechten, terwijl ze verhalen delen over de cultuur die ze zo dierbaar is. Daarnaast laten ze je kennismaken met de kunst van henna, klinkt er live muziek door de ruimte en ga je zelf aan de slag in een workshop, want je gaat naar huis met je eigen Turkse souvenir als herinnering aan deze avond.</p>
<p>Aan een gedeelde tafel ontdekken we samen de rijke Turkse cultuur. Kom eten, kom luisteren, en leer nieuwe mensen kennen.</p>
<p><em>Folkscafé meet-ups en Folkskeuken worden mogelijk gemaakt door Explore the North in samenwerking met Sedrana. Het project wordt gesteund door Cultuurfonds en Over de drempel van Arcadia.</em></p>
DESCRIPTION:<a href='/agenda/2026/5/2/folkskeuken-turkije-129685'>/agenda/2026/5/2/folkskeuken-turkije-129685</a> || <p>Op deze avond nemen hosts Nurten en Zeynep je mee in hun wereld. Samen met chefs Sultan, Hatice, Ayse, Fatma en Meral bereiden zij enkele van hun favoriete Turkse gerechten, terwijl ze verhalen delen over de cultuur die ze zo dierbaar is. Daarnaast laten ze je kennismaken met de kunst van henna, klinkt er live muziek door de ruimte en ga je zelf aan de slag in een workshop, want je gaat naar huis met je eigen Turkse souvenir als herinnering aan deze avond.</p>
<p>Aan een gedeelde tafel ontdekken we samen de rijke Turkse cultuur. Kom eten, kom luisteren, en leer nieuwe mensen kennen.</p>
<p><em>Folkscafé meet-ups en Folkskeuken worden mogelijk gemaakt door Explore the North in samenwerking met Sedrana. Het project wordt gesteund door Cultuurfonds en Over de drempel van Arcadia.</em></p>
LAST-MODIFIED:20260422T085236Z
LOCATION: Onbekend | Bagijnestraat 59 Leeuwarden
SEQUENCE:0
STATUS:CONFIRMED
SUMMARY:Folkskeuken Turkije
TRANSP:OPAQUE
END:VEVENT
END:VCALENDAR
