BEGIN:VCALENDAR
PRODID:-//PUBBLE//agenda//NL
VERSION:2.0
METHOD:PUBLISH
BEGIN:VEVENT
DTSTART:20260628T140000Z
DTEND:20260628T160000Z
DTSTAMP:20260420T201300Z
UID:f13c2633-dfde-4768-bc7d-65ea6b2f11a7
CREATED:20260420T201300Z
NAME:Jessica Voeten over Mata Hari oudega-swf.nl
X-WR-CALNAME:Jessica Voeten over Mata Hari
X-ALT-DESC;FMTTYPE=text/html:<a href='/agenda/2026/6/28/jessica-voeten-over-mata-hari-129686'>/agenda/2026/6/28/jessica-voeten-over-mata-hari-129686</a> || <p><em>Een lezing over Mata Hari, gebaseerd op de biografie Moed en overmoed - Leven en tijd van Mata-Hari, dat de spreekster samen met Angela Dekker schreef.</em></p>
DESCRIPTION:<a href='/agenda/2026/6/28/jessica-voeten-over-mata-hari-129686'>/agenda/2026/6/28/jessica-voeten-over-mata-hari-129686</a> || <p><em>Een lezing over Mata Hari, gebaseerd op de biografie Moed en overmoed - Leven en tijd van Mata-Hari, dat de spreekster samen met Angela Dekker schreef.</em></p>
LAST-MODIFIED:20260420T201300Z
LOCATION: Onbekend | Groeneweg 1 Leeuwarden
SEQUENCE:0
STATUS:CONFIRMED
SUMMARY:Jessica Voeten over Mata Hari
TRANSP:OPAQUE
END:VEVENT
END:VCALENDAR
