BEGIN:VCALENDAR
PRODID:-//PUBBLE//agenda//NL
VERSION:2.0
METHOD:PUBLISH
BEGIN:VEVENT
DTSTART:20260502T130000Z
DTEND:20260502T160000Z
DTSTAMP:20260420T091450Z
UID:73a1d6eb-dded-4598-a242-bd2990c720a9
CREATED:20260420T091450Z
NAME:Opening Watersport Seizoen Leeuwarden oudega-swf.nl
X-WR-CALNAME:Opening Watersport Seizoen Leeuwarden
X-ALT-DESC;FMTTYPE=text/html:<a href='/agenda/2026/5/2/opening-watersport-seizoen-leeuwarden-129687'>/agenda/2026/5/2/opening-watersport-seizoen-leeuwarden-129687</a> || <p>Op zaterdagmiddag 2 mei kunnen bezoekers en inwoners genieten van gratis watersportactiviteiten. Tussen 13:00 en 16:00 uur is er voor jong en oud van alles gratis te doen in het kader van de opening van het waterportseizoen in Leeuwarden. De activiteiten zijn te doen in de binnenstad en Prinsentuin.&nbsp;</p>
<p><strong>Muziekprogramma</strong></p>
<p>Op twee vaste locaties wordt er muziek gespeeld. In de Prinsentuin, en op de Nieuwestad.<br />Geniet de hele middag van talent uit de regio en upcoming acts uit het land onder het genot van een hapje en/of drankje van de foodtruck.&nbsp;</p>
<p><strong>Programma Nieuwestad:</strong></p>
<p>13:00 - 13:45: <strong>Sym&amp;Sanne</strong></p>
<p>14:00 - 14:45: <strong>Sen&amp;Fen</strong></p>
<p>15:00 - 15:45:<strong> Muriel</strong></p>
<p><strong>Programma Prinsentuin</strong></p>
<p>13:05 - 13:50: <strong>We Try John Mayer&nbsp;</strong></p>
<p>14:10 - 14:55: <strong>Melissa Pander &amp; Band</strong></p>
<p>15:15 - 16:00: <strong>SIPKE</strong></p>
<p><strong>Op een boot door de grachten:</strong></p>
<p>13:00 - 16:00: <strong>Drumband Sternse Slotlanders<br /><br /></strong></p>
<p><strong>Doe activiteiten voor jong en oud</strong></p>
<p>In de Prinsentuin een stukje suppen, roeien of kanoën. <br />Vaar een rondje mee met een Greenjoy boot, stap in een waterroller, laat zien hoe snel jij een fok kan hijsen of maak je eigen wandhanger in het thema water.&nbsp;<br />Een aantal watersportbedrijven zullen aanwezig om meer te vertellen en te laten zien wat zij allemaal doen.&nbsp;</p>
DESCRIPTION:<a href='/agenda/2026/5/2/opening-watersport-seizoen-leeuwarden-129687'>/agenda/2026/5/2/opening-watersport-seizoen-leeuwarden-129687</a> || <p>Op zaterdagmiddag 2 mei kunnen bezoekers en inwoners genieten van gratis watersportactiviteiten. Tussen 13:00 en 16:00 uur is er voor jong en oud van alles gratis te doen in het kader van de opening van het waterportseizoen in Leeuwarden. De activiteiten zijn te doen in de binnenstad en Prinsentuin.&nbsp;</p>
<p><strong>Muziekprogramma</strong></p>
<p>Op twee vaste locaties wordt er muziek gespeeld. In de Prinsentuin, en op de Nieuwestad.<br />Geniet de hele middag van talent uit de regio en upcoming acts uit het land onder het genot van een hapje en/of drankje van de foodtruck.&nbsp;</p>
<p><strong>Programma Nieuwestad:</strong></p>
<p>13:00 - 13:45: <strong>Sym&amp;Sanne</strong></p>
<p>14:00 - 14:45: <strong>Sen&amp;Fen</strong></p>
<p>15:00 - 15:45:<strong> Muriel</strong></p>
<p><strong>Programma Prinsentuin</strong></p>
<p>13:05 - 13:50: <strong>We Try John Mayer&nbsp;</strong></p>
<p>14:10 - 14:55: <strong>Melissa Pander &amp; Band</strong></p>
<p>15:15 - 16:00: <strong>SIPKE</strong></p>
<p><strong>Op een boot door de grachten:</strong></p>
<p>13:00 - 16:00: <strong>Drumband Sternse Slotlanders<br /><br /></strong></p>
<p><strong>Doe activiteiten voor jong en oud</strong></p>
<p>In de Prinsentuin een stukje suppen, roeien of kanoën. <br />Vaar een rondje mee met een Greenjoy boot, stap in een waterroller, laat zien hoe snel jij een fok kan hijsen of maak je eigen wandhanger in het thema water.&nbsp;<br />Een aantal watersportbedrijven zullen aanwezig om meer te vertellen en te laten zien wat zij allemaal doen.&nbsp;</p>
LAST-MODIFIED:20260420T091450Z
LOCATION: Onbekend | Prinsentuin 1 Leeuwarden
SEQUENCE:0
STATUS:CONFIRMED
SUMMARY:Opening Watersport Seizoen Leeuwarden
TRANSP:OPAQUE
END:VEVENT
END:VCALENDAR
