BEGIN:VCALENDAR
PRODID:-//PUBBLE//agenda//NL
VERSION:2.0
METHOD:PUBLISH
BEGIN:VEVENT
DTSTART:20260523T140000Z
DTEND:20260523T153000Z
DTSTAMP:20260420T132029Z
UID:21005e03-05d4-40c8-be8b-422f09abf32f
CREATED:20260420T132029Z
NAME:Page Against the Machine oudega-swf.nl
X-WR-CALNAME:Page Against the Machine
X-ALT-DESC;FMTTYPE=text/html:<a href='/agenda/2026/5/23/page-against-the-machine-129688'>/agenda/2026/5/23/page-against-the-machine-129688</a> || <p>Toe aan een welverdiende ‘detox read’? Telefoan út, boek oan! Verruil je telefoon voor een boek, neem plaats in het nieuwe parkje naast Campus Fryslân (Willemskade) en lees ongestoord te midden van andere stille genieters. Oftewel: kom naar Page Against the Machine! Een internationaal evenement dat mensen van alle leeftijden en achtergronden bij elkaar brengt en laat ervaren hoe fijn samne lezen is - dit jaar in samenwerking met de Silent Book Club Fryslân van Tresoar.</p>
<p>Neem een eigen kleedje/tuinstoel en eventuele drinken mee.<br /><br />Kun je er niet live bij zijn? Kies dan je eigen favoriete plek, deel pijlsnel je boek (met #PageAgainsttheMachine), leg je telefoon weg en lees!</p>
<p>Page Against the Machine is een initiatief van Norwich UNESCO City of Literature en The Book Hive.<br />De Silent Book Club Fryslân vindt normaal elke eerste donderdag van de maand plaats bij Tresoar.</p>
DESCRIPTION:<a href='/agenda/2026/5/23/page-against-the-machine-129688'>/agenda/2026/5/23/page-against-the-machine-129688</a> || <p>Toe aan een welverdiende ‘detox read’? Telefoan út, boek oan! Verruil je telefoon voor een boek, neem plaats in het nieuwe parkje naast Campus Fryslân (Willemskade) en lees ongestoord te midden van andere stille genieters. Oftewel: kom naar Page Against the Machine! Een internationaal evenement dat mensen van alle leeftijden en achtergronden bij elkaar brengt en laat ervaren hoe fijn samne lezen is - dit jaar in samenwerking met de Silent Book Club Fryslân van Tresoar.</p>
<p>Neem een eigen kleedje/tuinstoel en eventuele drinken mee.<br /><br />Kun je er niet live bij zijn? Kies dan je eigen favoriete plek, deel pijlsnel je boek (met #PageAgainsttheMachine), leg je telefoon weg en lees!</p>
<p>Page Against the Machine is een initiatief van Norwich UNESCO City of Literature en The Book Hive.<br />De Silent Book Club Fryslân vindt normaal elke eerste donderdag van de maand plaats bij Tresoar.</p>
LAST-MODIFIED:20260420T132029Z
LOCATION: Naast Campus Fryslân (Willemskade) | Wirdumerdijk 34 Leeuwarden
SEQUENCE:0
STATUS:CONFIRMED
SUMMARY:Page Against the Machine
TRANSP:OPAQUE
END:VEVENT
END:VCALENDAR
