BEGIN:VCALENDAR
PRODID:-//PUBBLE//agenda//NL
VERSION:2.0
METHOD:PUBLISH
BEGIN:VEVENT
DTSTART:20261128T100000Z
DTEND:20261128T150000Z
DTSTAMP:20260420T080717Z
UID:a0b96277-dc6f-4169-af91-337bb77bdb5a
CREATED:20260420T080717Z
NAME:Trouwbeurs Friesland oudega-swf.nl
X-WR-CALNAME:Trouwbeurs Friesland
X-ALT-DESC;FMTTYPE=text/html:<a href='/agenda/2026/11/28/trouwbeurs-friesland-129756'>/agenda/2026/11/28/trouwbeurs-friesland-129756</a> || <p>Heb je trouwplannen? Laat je dan inspireren door lokale- en regionale exposanten bij de trouwbeurs in de Broerekerk in Bolsward.</p>
DESCRIPTION:<a href='/agenda/2026/11/28/trouwbeurs-friesland-129756'>/agenda/2026/11/28/trouwbeurs-friesland-129756</a> || <p>Heb je trouwplannen? Laat je dan inspireren door lokale- en regionale exposanten bij de trouwbeurs in de Broerekerk in Bolsward.</p>
LAST-MODIFIED:20260420T080717Z
LOCATION: Onbekend | Broereplein 10 Bolsward
SEQUENCE:0
STATUS:CONFIRMED
SUMMARY:Trouwbeurs Friesland
TRANSP:OPAQUE
END:VEVENT
END:VCALENDAR
