BEGIN:VCALENDAR
PRODID:-//PUBBLE//agenda//NL
VERSION:2.0
METHOD:PUBLISH
BEGIN:VEVENT
DTSTART:20260718T093000Z
DTEND:20260718T170000Z
DTSTAMP:20260420T232801Z
UID:79bc1070-8c0a-48a4-bd01-3cf9aeff276d
CREATED:20260420T232801Z
NAME:Zeilen en lunchen oudega-swf.nl
X-WR-CALNAME:Zeilen en lunchen
X-ALT-DESC;FMTTYPE=text/html:<a href='/agenda/2026/7/18/zeilen-en-lunchen-129765'>/agenda/2026/7/18/zeilen-en-lunchen-129765</a> || <p>Stap voor een hele dag zeilen aan boord van ons comfortabele kajuitzeiljacht en ervaar de perfecte break op het water. Laat de wind je meenemen terwijl je geniet van rust, ruimte en een prachtig uitzicht.</p>
<p>Kies voor gemak en boek een heerlijke lunch bij, of neem je eigen favoriete hapjes mee – alles mag, niets moet. Ontspan, voel de vrijheid en beleef een unieke ochtend of middag op het water.</p>
<p>Boek nu en maak van je lunch een onvergetelijke ervaring! Direct te boeken via VVV of via info@gloriasailing.nl. Ook te combineren met een overnachting op de boot. </p>
<p>Dagdeel vanaf € 75 per persoon of privé vanaf € 240 (voor 2-6 personen). Dagtarief vanaf € 155 per persoon of privé vanaf € 420 (voor 2-6 personen).</p>
<p>Ook op andere dagen te boeken. Informeer naar de mogelijkheden via info@gloriasailing.nl. Zie ook onze andere activiteiten via VVV of informeer naar ons ons aanbod-op-maat.</p>
<p><strong>Ligging</strong><br />Opstaplocatie en (gratis) parkeren: Jachthaven Marina Noël, Pontdyk 8c, 8525 GG Langweer. De boot ligt aan steiger C op plek C8.</p>
<p><strong>Belangrijk om te weten</strong><br />Gloria is een kajuitzeiljacht van 12 meter voor 6-8 personen met volop ruimte - buiten op het achterdek en binnen in de salon. De boot heeft een complete keuken met grote koelkast, gasfornuis en oven. Een toilet, een douche binnen en buiten, warm en koud water en verwarming zorgen voor een comfortabel verblijf.</p>
<p>Koffie en thee zijn inbegrepen in de prijs. Het is mogelijk om onderstaande extra opties bij te boeken. Geef dit van tevoren door via info@gloriasailing.nl.</p>
<p>- Friese oranjekoek met slagroom € 2,50 per persoon
- Lunch € 17,95 per persoon
- Borrelplank € 8,95 per persoon (vanaf 4 personen)
- Gekoelde drankjes € 3 per stuk - drankkeuze in overleg</p>
<p>Het is ook mogelijk om je eigen eten &amp; drinken mee te nemen. </p>
<p>Ook te combineren met een overnachting op de boot.</p>
<p>We gaan samen zeilen. Als we langdurig op de motor moeten varen, zullen we de motoruren verrekenen à  € 6,- per uur (het eerste uur is inbegrepen).</p>
<p>Houd rekening met het weer. Denk aan voldoende warme, winddichte kleding en een kleedje. Neem bij regenachtig weer regenkleding mee. Het programma kan wijzigen door onvoorziene omstandigheden.</p>
<p>De activiteit gaat door als er minimaal 3 deelnemers zijn. Er kunnen max 6 personen mee. Deze activiteit is ook geschikt voor kinderen. Graag van te voren contact over eventuele kinderreddingsvesten. De activiteit is helaas niet geschikt voor rolstoelgebruikers.</p>
<p>Graag 5 minuten van te voren aanwezig zijn.</p>
DESCRIPTION:<a href='/agenda/2026/7/18/zeilen-en-lunchen-129765'>/agenda/2026/7/18/zeilen-en-lunchen-129765</a> || <p>Stap voor een hele dag zeilen aan boord van ons comfortabele kajuitzeiljacht en ervaar de perfecte break op het water. Laat de wind je meenemen terwijl je geniet van rust, ruimte en een prachtig uitzicht.</p>
<p>Kies voor gemak en boek een heerlijke lunch bij, of neem je eigen favoriete hapjes mee – alles mag, niets moet. Ontspan, voel de vrijheid en beleef een unieke ochtend of middag op het water.</p>
<p>Boek nu en maak van je lunch een onvergetelijke ervaring! Direct te boeken via VVV of via info@gloriasailing.nl. Ook te combineren met een overnachting op de boot. </p>
<p>Dagdeel vanaf € 75 per persoon of privé vanaf € 240 (voor 2-6 personen). Dagtarief vanaf € 155 per persoon of privé vanaf € 420 (voor 2-6 personen).</p>
<p>Ook op andere dagen te boeken. Informeer naar de mogelijkheden via info@gloriasailing.nl. Zie ook onze andere activiteiten via VVV of informeer naar ons ons aanbod-op-maat.</p>
<p><strong>Ligging</strong><br />Opstaplocatie en (gratis) parkeren: Jachthaven Marina Noël, Pontdyk 8c, 8525 GG Langweer. De boot ligt aan steiger C op plek C8.</p>
<p><strong>Belangrijk om te weten</strong><br />Gloria is een kajuitzeiljacht van 12 meter voor 6-8 personen met volop ruimte - buiten op het achterdek en binnen in de salon. De boot heeft een complete keuken met grote koelkast, gasfornuis en oven. Een toilet, een douche binnen en buiten, warm en koud water en verwarming zorgen voor een comfortabel verblijf.</p>
<p>Koffie en thee zijn inbegrepen in de prijs. Het is mogelijk om onderstaande extra opties bij te boeken. Geef dit van tevoren door via info@gloriasailing.nl.</p>
<p>- Friese oranjekoek met slagroom € 2,50 per persoon
- Lunch € 17,95 per persoon
- Borrelplank € 8,95 per persoon (vanaf 4 personen)
- Gekoelde drankjes € 3 per stuk - drankkeuze in overleg</p>
<p>Het is ook mogelijk om je eigen eten &amp; drinken mee te nemen. </p>
<p>Ook te combineren met een overnachting op de boot.</p>
<p>We gaan samen zeilen. Als we langdurig op de motor moeten varen, zullen we de motoruren verrekenen à  € 6,- per uur (het eerste uur is inbegrepen).</p>
<p>Houd rekening met het weer. Denk aan voldoende warme, winddichte kleding en een kleedje. Neem bij regenachtig weer regenkleding mee. Het programma kan wijzigen door onvoorziene omstandigheden.</p>
<p>De activiteit gaat door als er minimaal 3 deelnemers zijn. Er kunnen max 6 personen mee. Deze activiteit is ook geschikt voor kinderen. Graag van te voren contact over eventuele kinderreddingsvesten. De activiteit is helaas niet geschikt voor rolstoelgebruikers.</p>
<p>Graag 5 minuten van te voren aanwezig zijn.</p>
LAST-MODIFIED:20260420T232801Z
LOCATION: Onbekend | Pontdyk 2 Langweer
SEQUENCE:0
STATUS:CONFIRMED
SUMMARY:Zeilen en lunchen
TRANSP:OPAQUE
END:VEVENT
END:VCALENDAR
