BEGIN:VCALENDAR
PRODID:-//PUBBLE//agenda//NL
VERSION:2.0
METHOD:PUBLISH
BEGIN:VEVENT
DTSTART:20260619T183000Z
DTEND:20260619T093000Z
DTSTAMP:20260420T182850Z
UID:33d0c867-fae8-4251-8214-e7c4d6e95d5f
CREATED:20260420T182850Z
NAME:Zeilen en slapen op de boot oudega-swf.nl
X-WR-CALNAME:Zeilen en slapen op de boot
X-ALT-DESC;FMTTYPE=text/html:<a href='/agenda/2026/6/19/zeilen-en-slapen-op-de-boot-129776'>/agenda/2026/6/19/zeilen-en-slapen-op-de-boot-129776</a> || <p>Na een ontspannen privézeiltocht met schipper en na het ondergaan van de zon, overnacht je aan boord van ons comfortabele kajuitzeiljacht Gloria. We zoeken een mooie plek om te overnachten, omringd door weidse uitzichten, rietkragen en genieten samen van de serene rust van Friesland. Ervaar de rust en vrijheid en begin je dag op jouw manier.</p>
<p>Optioneel kan een heerlijk ontbijt worden verzorgd, maar je mag natuurlijk ook je eigen ontbijt meenemen of zelf regelen. </p>
<p>Stap aan boord en beleef een onvergetelijke combinatie van zeilen, zonsondergang en slapen op het Friese water. Direct te boeken via VVV of via info@gloriasailing.nl. </p>
<p>Ook op andere dagen verzorgen we voor jou, je familie of je gezin graag een bijzonder zeilavontuur. Informeer naar de mogelijkheden via info@gloriasailing.nl.</p>
<p><strong>Ligging</strong><br />Opstaplocatie en (gratis) parkeren: Jachthaven Marina Noël, Pontdyk 8c, 8525 GG Langweer. De boot ligt aan steiger C op plek C8.</p>
<p><strong>Belangrijk om te weten</strong><br />Gloria is een kajuitzeiljacht van 12 meter voor 6-8 personen met volop ruimte - buiten op het achterdek en binnen in de salon. De boot heeft een complete keuken met grote koelkast, gasfornuis en oven. Een toilet, een douche binnen en buiten, warm en koud water en verwarming zorgen voor een comfortabel verblijf. Binnen zijn 3 afzonderlijke hutten met elk een dubbel bed. Op de bank is een extra slaapplaats te creëren. </p>
<p>Koffie en thee zijn inbegrepen in de prijs. Het is mogelijk om onderstaande extra opties bij te boeken. Geef dit van tevoren door via info@gloriasailing.nl.</p>
<p>- Friese oranjekoek met slagroom € 2,50 per persoon
- Ontbijt € 17,95 per persoon
- Borrelplank € 8,95 per persoon (vanaf 4 personen)
- Gekoelde drankjes € 3 per stuk - drankkeuze in overleg</p>
<p>Het is ook mogelijk om je eigen eten &amp; drinken mee te nemen.</p>
<p>We gaan samen zeilen. Als we langdurig op de motor moeten varen, zullen we de motoruren verrekenen à € 6,- per uur (het eerste uur is inbegrepen).</p>
<p>Houd rekening met het weer. Denk aan voldoende warme, winddichte kleding en een kleedje. Mocht je willen zwemmen of suppen: neem je zwemkleding en handdoek mee. Neem bij regenachtig weer regenkleding mee. En vergeet vooral je slaapspullen niet! Het programma kan wijzigen door onvoorziene omstandigheden.</p>
<p>Deze privé activiteit is geschikt voor 2 tot 6 personen en ook geschikt voor kinderen. Graag van te voren contact over eventuele kinderreddingsvesten. De activiteit is helaas niet geschikt voor rolstoelgebruikers.</p>
<p>Graag 5 minuten van te voren aanwezig zijn.</p>
DESCRIPTION:<a href='/agenda/2026/6/19/zeilen-en-slapen-op-de-boot-129776'>/agenda/2026/6/19/zeilen-en-slapen-op-de-boot-129776</a> || <p>Na een ontspannen privézeiltocht met schipper en na het ondergaan van de zon, overnacht je aan boord van ons comfortabele kajuitzeiljacht Gloria. We zoeken een mooie plek om te overnachten, omringd door weidse uitzichten, rietkragen en genieten samen van de serene rust van Friesland. Ervaar de rust en vrijheid en begin je dag op jouw manier.</p>
<p>Optioneel kan een heerlijk ontbijt worden verzorgd, maar je mag natuurlijk ook je eigen ontbijt meenemen of zelf regelen. </p>
<p>Stap aan boord en beleef een onvergetelijke combinatie van zeilen, zonsondergang en slapen op het Friese water. Direct te boeken via VVV of via info@gloriasailing.nl. </p>
<p>Ook op andere dagen verzorgen we voor jou, je familie of je gezin graag een bijzonder zeilavontuur. Informeer naar de mogelijkheden via info@gloriasailing.nl.</p>
<p><strong>Ligging</strong><br />Opstaplocatie en (gratis) parkeren: Jachthaven Marina Noël, Pontdyk 8c, 8525 GG Langweer. De boot ligt aan steiger C op plek C8.</p>
<p><strong>Belangrijk om te weten</strong><br />Gloria is een kajuitzeiljacht van 12 meter voor 6-8 personen met volop ruimte - buiten op het achterdek en binnen in de salon. De boot heeft een complete keuken met grote koelkast, gasfornuis en oven. Een toilet, een douche binnen en buiten, warm en koud water en verwarming zorgen voor een comfortabel verblijf. Binnen zijn 3 afzonderlijke hutten met elk een dubbel bed. Op de bank is een extra slaapplaats te creëren. </p>
<p>Koffie en thee zijn inbegrepen in de prijs. Het is mogelijk om onderstaande extra opties bij te boeken. Geef dit van tevoren door via info@gloriasailing.nl.</p>
<p>- Friese oranjekoek met slagroom € 2,50 per persoon
- Ontbijt € 17,95 per persoon
- Borrelplank € 8,95 per persoon (vanaf 4 personen)
- Gekoelde drankjes € 3 per stuk - drankkeuze in overleg</p>
<p>Het is ook mogelijk om je eigen eten &amp; drinken mee te nemen.</p>
<p>We gaan samen zeilen. Als we langdurig op de motor moeten varen, zullen we de motoruren verrekenen à € 6,- per uur (het eerste uur is inbegrepen).</p>
<p>Houd rekening met het weer. Denk aan voldoende warme, winddichte kleding en een kleedje. Mocht je willen zwemmen of suppen: neem je zwemkleding en handdoek mee. Neem bij regenachtig weer regenkleding mee. En vergeet vooral je slaapspullen niet! Het programma kan wijzigen door onvoorziene omstandigheden.</p>
<p>Deze privé activiteit is geschikt voor 2 tot 6 personen en ook geschikt voor kinderen. Graag van te voren contact over eventuele kinderreddingsvesten. De activiteit is helaas niet geschikt voor rolstoelgebruikers.</p>
<p>Graag 5 minuten van te voren aanwezig zijn.</p>
LAST-MODIFIED:20260420T182850Z
LOCATION: Onbekend | Pontdyk 2 Langweer
SEQUENCE:0
STATUS:CONFIRMED
SUMMARY:Zeilen en slapen op de boot
TRANSP:OPAQUE
END:VEVENT
END:VCALENDAR
