BEGIN:VCALENDAR
PRODID:-//PUBBLE//agenda//NL
VERSION:2.0
METHOD:PUBLISH
BEGIN:VEVENT
DTSTART:20260531T000000Z
DTEND:20260531T000000Z
DTSTAMP:20260420T150507Z
UID:e68986ff-0be7-4523-baf2-f3d5590d334d
CREATED:20260420T150507Z
NAME:Concert door het ‘Leeuwarder Accordeon Ensemble’ oudega-swf.nl
X-WR-CALNAME:Concert door het ‘Leeuwarder Accordeon Ensemble’
X-ALT-DESC;FMTTYPE=text/html:<a href='/agenda/2026/5/31/concert-door-het-leeuwarder-accordeon-ensemble-129836'>/agenda/2026/5/31/concert-door-het-leeuwarder-accordeon-ensemble-129836</a> || <p><strong>Concert door het ‘Leeuwarder Accordeon Ensemble’</strong><br /><strong>zondag 31 mei 2026 om 15.00 uur, kerk open om 14.30 uur.</strong></p>
<p>Zondag 31 mei aanstaande, vanaf 15.00 uur, kunt u luisteren naar muziek van componist en bandoneonist Astor Piazzolla, een concert met de naam “echo’s van weemoed “.<br /> Piazzolla werd in Nederland vooral bekend tijdens het huwelijk van Willem Alexander met Máxima door de vertolking van het prachtige “Adios Nonino “ met Carel Kraayenhof op bandoneon.<br /><br /> Geppy Haarsma, een friese accordeoniste, met veel optredens op haar naam, zal met medewerking van het Leeuwarder Accordeon Ensemble, o.l.v. Gertie Bruin, nog meer van zijn meeslepende muziek laten horen. <br />Dan waan je je in de straten van Buenos Aires.<br /> Het Leeuwarder Accordeon Ensemble hoopt u te zien bij hun concert in de Dorpskerk Huizum.<br /> <br /> Entree € 10,00.</p>
<p>Kaarten kunnen gereserveerd worden bij&nbsp;<a href="mailto:aliecopini@gmail.com">aliecopini@gmail.com</a>&nbsp;en dan worden afgehaald bij aanvang van het concert.<br />Voorafgaand aan het concert kunt u bij de kassa ook toegangskaarten kopen.</p>
<p><em>Bij de Dorpskerk is weinig parkeerruimte. Bezoekers kunnen - op korte loopafstand en gratis - parkeren op het ruime parkeerterrein tegenover Intratuin (zuidzijde Tijnjedijk).</em></p>
<p><strong>Tijdstip</strong><br />15.00 uur</p>
<p><strong>Entree</strong><br />€ 10,00</p>
<p><strong>Informatie of reservering</strong><br /></p>
<p>Kaarten kunnen gereserveerd worden bij <a href="mailto:aliecopini@gmail.com">aliecopini@gmail.com</a>&nbsp;.</p>
DESCRIPTION:<a href='/agenda/2026/5/31/concert-door-het-leeuwarder-accordeon-ensemble-129836'>/agenda/2026/5/31/concert-door-het-leeuwarder-accordeon-ensemble-129836</a> || <p><strong>Concert door het ‘Leeuwarder Accordeon Ensemble’</strong><br /><strong>zondag 31 mei 2026 om 15.00 uur, kerk open om 14.30 uur.</strong></p>
<p>Zondag 31 mei aanstaande, vanaf 15.00 uur, kunt u luisteren naar muziek van componist en bandoneonist Astor Piazzolla, een concert met de naam “echo’s van weemoed “.<br /> Piazzolla werd in Nederland vooral bekend tijdens het huwelijk van Willem Alexander met Máxima door de vertolking van het prachtige “Adios Nonino “ met Carel Kraayenhof op bandoneon.<br /><br /> Geppy Haarsma, een friese accordeoniste, met veel optredens op haar naam, zal met medewerking van het Leeuwarder Accordeon Ensemble, o.l.v. Gertie Bruin, nog meer van zijn meeslepende muziek laten horen. <br />Dan waan je je in de straten van Buenos Aires.<br /> Het Leeuwarder Accordeon Ensemble hoopt u te zien bij hun concert in de Dorpskerk Huizum.<br /> <br /> Entree € 10,00.</p>
<p>Kaarten kunnen gereserveerd worden bij&nbsp;<a href="mailto:aliecopini@gmail.com">aliecopini@gmail.com</a>&nbsp;en dan worden afgehaald bij aanvang van het concert.<br />Voorafgaand aan het concert kunt u bij de kassa ook toegangskaarten kopen.</p>
<p><em>Bij de Dorpskerk is weinig parkeerruimte. Bezoekers kunnen - op korte loopafstand en gratis - parkeren op het ruime parkeerterrein tegenover Intratuin (zuidzijde Tijnjedijk).</em></p>
<p><strong>Tijdstip</strong><br />15.00 uur</p>
<p><strong>Entree</strong><br />€ 10,00</p>
<p><strong>Informatie of reservering</strong><br /></p>
<p>Kaarten kunnen gereserveerd worden bij <a href="mailto:aliecopini@gmail.com">aliecopini@gmail.com</a>&nbsp;.</p>
LAST-MODIFIED:20260420T150507Z
LOCATION: Onbekend | Huizum Dorp 67 Leeuwarden
SEQUENCE:0
STATUS:CONFIRMED
SUMMARY:Concert door het ‘Leeuwarder Accordeon Ensemble’
TRANSP:OPAQUE
END:VEVENT
END:VCALENDAR
