BEGIN:VCALENDAR
PRODID:-//PUBBLE//agenda//NL
VERSION:2.0
METHOD:PUBLISH
BEGIN:VEVENT
DTSTART:20260525T100000Z
DTEND:20260525T160000Z
DTSTAMP:20260420T150331Z
UID:e2effe68-e64c-42f8-bde2-9e91f1e48144
CREATED:20260420T150331Z
NAME:Campina open boerderijdagen: IJsboerderij Boereiis oudega-swf.nl
X-WR-CALNAME:Campina open boerderijdagen: IJsboerderij Boereiis
X-ALT-DESC;FMTTYPE=text/html:<a href='/agenda/2026/5/25/campina-open-boerderijdagen-ijsboerderij-boereiis-129886'>/agenda/2026/5/25/campina-open-boerderijdagen-ijsboerderij-boereiis-129886</a> || <p>Op 2e Pinksterdag (25 mei) ben je van harte welkom op onze boerderij in Akkrum voor een gezellige dag vol boerderijplezier!??<br /><br />Kom koeien kijken, meedoen met leuke spelletjes, speuren in het gras en ontdek van alles over het leven op de boerderij.<br /><br />Gratis toegang van 10.00 tot 16.00 uur, leuk voor jong en oud!??<br /><br />Zet maandag 25 mei in de agenda!??<br />https://www.boereiis.nl/</p>
DESCRIPTION:<a href='/agenda/2026/5/25/campina-open-boerderijdagen-ijsboerderij-boereiis-129886'>/agenda/2026/5/25/campina-open-boerderijdagen-ijsboerderij-boereiis-129886</a> || <p>Op 2e Pinksterdag (25 mei) ben je van harte welkom op onze boerderij in Akkrum voor een gezellige dag vol boerderijplezier!??<br /><br />Kom koeien kijken, meedoen met leuke spelletjes, speuren in het gras en ontdek van alles over het leven op de boerderij.<br /><br />Gratis toegang van 10.00 tot 16.00 uur, leuk voor jong en oud!??<br /><br />Zet maandag 25 mei in de agenda!??<br />https://www.boereiis.nl/</p>
LAST-MODIFIED:20260420T150331Z
LOCATION: Ijsboerderij Boereiis | 2 Jinshúzen  Akkrum
SEQUENCE:0
STATUS:CONFIRMED
SUMMARY:Campina open boerderijdagen: IJsboerderij Boereiis
TRANSP:OPAQUE
END:VEVENT
END:VCALENDAR
