BEGIN:VCALENDAR
PRODID:-//PUBBLE//agenda//NL
VERSION:2.0
METHOD:PUBLISH
BEGIN:VEVENT
DTSTART:20260502T111500Z
DTEND:20260502T141500Z
DTSTAMP:20260420T081838Z
UID:7926a918-44bc-4341-b856-7b0efc997d43
CREATED:20260420T081838Z
NAME:Bootocht Damshûs naar it Ald Djip Nij Beets oudega-swf.nl
X-WR-CALNAME:Bootocht Damshûs naar it Ald Djip Nij Beets
X-ALT-DESC;FMTTYPE=text/html:<a href='/agenda/2026/5/2/bootocht-damshus-naar-it-ald-djip-nij-beets-129943'>/agenda/2026/5/2/bootocht-damshus-naar-it-ald-djip-nij-beets-129943</a> || <p>Bootocht Damshûs naar it Ald Djip Nij Beets. Vaar mee met een mooie bootocht over een stuk van de turfroute en It Ald Djip van it Damshûs naar het Aquaduct. Duur van deze tocht ongeveer 1,5 uur</p><p>Vertrektijd vanaf het museum 13.15. Kosten volwassenen 18.00 Kinderen 9.00</p>
DESCRIPTION:<a href='/agenda/2026/5/2/bootocht-damshus-naar-it-ald-djip-nij-beets-129943'>/agenda/2026/5/2/bootocht-damshus-naar-it-ald-djip-nij-beets-129943</a> || <p>Bootocht Damshûs naar it Ald Djip Nij Beets. Vaar mee met een mooie bootocht over een stuk van de turfroute en It Ald Djip van it Damshûs naar het Aquaduct. Duur van deze tocht ongeveer 1,5 uur</p><p>Vertrektijd vanaf het museum 13.15. Kosten volwassenen 18.00 Kinderen 9.00</p>
LAST-MODIFIED:20260420T081838Z
LOCATION: Openluchtmuseum It Damshûs | Domela Nieuwenhuisweg 59B Nij Beets
SEQUENCE:0
STATUS:CONFIRMED
SUMMARY:Bootocht Damshûs naar it Ald Djip Nij Beets
TRANSP:OPAQUE
END:VEVENT
END:VCALENDAR
