BEGIN:VCALENDAR
PRODID:-//PUBBLE//agenda//NL
VERSION:2.0
METHOD:PUBLISH
BEGIN:VEVENT
DTSTART:20260508T200000Z
DTEND:20260508T210000Z
DTSTAMP:20260420T095856Z
UID:22a0f8c2-d41c-40b7-bc54-e3b9118eee14
CREATED:20260420T095856Z
NAME:De Kleine Tour van Friesland oudega-swf.nl
X-WR-CALNAME:De Kleine Tour van Friesland
X-ALT-DESC;FMTTYPE=text/html:<a href='/agenda/2026/5/8/de-kleine-tour-van-friesland-129972'>/agenda/2026/5/8/de-kleine-tour-van-friesland-129972</a> || <p><strong>De Kleine Tour van Friesland is in volle gang! Na Sneek, Dokkum en Buitenpost strijkt het project neer bij de Musykfabryk in Heerenveen. Tijdens het evenement op vrijdag 8 mei spelen drie jonge, Friese acts hun eigen repertoire. Maak je klaar voor Fryske black metal, postpunk en progressieve rock. De zaal gaat open om 20:00 en de toegang is gratis. Lees verder voor meer informatie over de acts.</strong><strong><br /></strong><strong><br /></strong><strong>Drôvich</strong><br />Drôvich is een Friese blackmetalband uit Dokkum en omstreken. Met invloeden uit de death- en thrashmetal brengen zij een nieuw geluid binnen de Friese blackmetalscene dat hen uniek maakt. Verwacht duistere thema’s, harde riffs en meeslepende melancholiek tijdens de liveshow van deze band.<br /><br /><strong>Matig</strong><br />Matig is een vierkoppige band uit Leeuwarden, die je meeneemt in een wereld van oneven maatsoorten, stemmingswisselingen en een onstopbare groove. Postpunk bezweken onder de druk van progressieve rock. Ze weigeren om op iets te spelen met minder dan zes snaren, inclusief de emotionele snaar. De teksten van Matig gaan over vervreemding en wantrouwen in de maatschappij.</p>
<p><strong>The Overdraft</strong><br />The Overdraft is een rock/metalband uit Leeuwarden, die graag hard speelt en samen muziek maakt. Met Dagmar Lijesen op zang, Fane de Witte op gitaar, Rowan Hofsteenge op bas, Seth Henstra op drums en Peter Drijver op toetsen. De band leeft voor de muziek en staat het liefst zo vaak mogelijk op het podium. Zo ook in Heerenveen!</p>
<p><strong>Algemene info:<br /></strong>Datum: vrijdag 8 mei<br />Deuren open: 20:00 uur<br />Start event: 20:30 uur<br />Locatie: Musykfabryk Heerenveen<br />Gratis entree</p>
DESCRIPTION:<a href='/agenda/2026/5/8/de-kleine-tour-van-friesland-129972'>/agenda/2026/5/8/de-kleine-tour-van-friesland-129972</a> || <p><strong>De Kleine Tour van Friesland is in volle gang! Na Sneek, Dokkum en Buitenpost strijkt het project neer bij de Musykfabryk in Heerenveen. Tijdens het evenement op vrijdag 8 mei spelen drie jonge, Friese acts hun eigen repertoire. Maak je klaar voor Fryske black metal, postpunk en progressieve rock. De zaal gaat open om 20:00 en de toegang is gratis. Lees verder voor meer informatie over de acts.</strong><strong><br /></strong><strong><br /></strong><strong>Drôvich</strong><br />Drôvich is een Friese blackmetalband uit Dokkum en omstreken. Met invloeden uit de death- en thrashmetal brengen zij een nieuw geluid binnen de Friese blackmetalscene dat hen uniek maakt. Verwacht duistere thema’s, harde riffs en meeslepende melancholiek tijdens de liveshow van deze band.<br /><br /><strong>Matig</strong><br />Matig is een vierkoppige band uit Leeuwarden, die je meeneemt in een wereld van oneven maatsoorten, stemmingswisselingen en een onstopbare groove. Postpunk bezweken onder de druk van progressieve rock. Ze weigeren om op iets te spelen met minder dan zes snaren, inclusief de emotionele snaar. De teksten van Matig gaan over vervreemding en wantrouwen in de maatschappij.</p>
<p><strong>The Overdraft</strong><br />The Overdraft is een rock/metalband uit Leeuwarden, die graag hard speelt en samen muziek maakt. Met Dagmar Lijesen op zang, Fane de Witte op gitaar, Rowan Hofsteenge op bas, Seth Henstra op drums en Peter Drijver op toetsen. De band leeft voor de muziek en staat het liefst zo vaak mogelijk op het podium. Zo ook in Heerenveen!</p>
<p><strong>Algemene info:<br /></strong>Datum: vrijdag 8 mei<br />Deuren open: 20:00 uur<br />Start event: 20:30 uur<br />Locatie: Musykfabryk Heerenveen<br />Gratis entree</p>
LAST-MODIFIED:20260420T095856Z
LOCATION: Musykfabryk | Industrieweg 18a Heerenveen
SEQUENCE:0
STATUS:CONFIRMED
SUMMARY:De Kleine Tour van Friesland
TRANSP:OPAQUE
END:VEVENT
END:VCALENDAR
