BEGIN:VCALENDAR
PRODID:-//PUBBLE//agenda//NL
VERSION:2.0
METHOD:PUBLISH
BEGIN:VEVENT
DTSTART:20260828T170000Z
DTEND:20260828T223000Z
DTSTAMP:20260422T052901Z
UID:8d35772f-f4a9-4aa2-be72-29cdab67492d
CREATED:20260422T052901Z
NAME:Gondelvaart Aldeboarn oudega-swf.nl
X-WR-CALNAME:Gondelvaart Aldeboarn
X-ALT-DESC;FMTTYPE=text/html:<a href='/agenda/2026/8/28/gondelvaart-aldeboarn-129973'>/agenda/2026/8/28/gondelvaart-aldeboarn-129973</a> || <p>Met meer dan 8.000 bezoekers is de Gondelvaart Aldeboarn één van de grootste culturele evenementen te water in de provincie Friesland. Dit jaarlijkse evenement bestaat al sinds 1945. In deze jaren ontwikkelde de Gondelvaart zich van een optocht in het water tot een heus spektakel met rond de 15 drijvende objecten, welke bijna volledige theaterproducties zijn.</p>
<p>De stoet vaart door de rivier de Boarn over een lengte van ongeveer 2 kilometer heen en terug. Dat er in het donker wordt gevaren maakt het geheel bijzonder.</p>
<p>De jaarmarkt start om 17:00 uur waarbij theater, een hapje en een drankje niet mag ontbreken. Slenteren over de markt en vermaak op en rond het water. Om 21:00 uur klinkt het startschot waarna de gondels voorbij zullen komen.</p>
<p><a href="http://www.gondelvaartaldeboarn.nl" target="_blank">www.gondelvaartaldeboarn.nl</a></p>
DESCRIPTION:<a href='/agenda/2026/8/28/gondelvaart-aldeboarn-129973'>/agenda/2026/8/28/gondelvaart-aldeboarn-129973</a> || <p>Met meer dan 8.000 bezoekers is de Gondelvaart Aldeboarn één van de grootste culturele evenementen te water in de provincie Friesland. Dit jaarlijkse evenement bestaat al sinds 1945. In deze jaren ontwikkelde de Gondelvaart zich van een optocht in het water tot een heus spektakel met rond de 15 drijvende objecten, welke bijna volledige theaterproducties zijn.</p>
<p>De stoet vaart door de rivier de Boarn over een lengte van ongeveer 2 kilometer heen en terug. Dat er in het donker wordt gevaren maakt het geheel bijzonder.</p>
<p>De jaarmarkt start om 17:00 uur waarbij theater, een hapje en een drankje niet mag ontbreken. Slenteren over de markt en vermaak op en rond het water. Om 21:00 uur klinkt het startschot waarna de gondels voorbij zullen komen.</p>
<p><a href="http://www.gondelvaartaldeboarn.nl" target="_blank">www.gondelvaartaldeboarn.nl</a></p>
LAST-MODIFIED:20260422T052901Z
LOCATION: Onbekend | Ald Swettebuorren 3 Aldeboarn
SEQUENCE:0
STATUS:CONFIRMED
SUMMARY:Gondelvaart Aldeboarn
TRANSP:OPAQUE
END:VEVENT
END:VCALENDAR
