BEGIN:VCALENDAR
PRODID:-//PUBBLE//agenda//NL
VERSION:2.0
METHOD:PUBLISH
BEGIN:VEVENT
DTSTART:20260429T150000Z
DTEND:20260429T160000Z
DTSTAMP:20260420T081858Z
UID:498fc92b-acea-4b44-9675-9ebbc22bfe0b
CREATED:20260420T081858Z
NAME:Vakantie voorlezen en knutselen in Bibliotheek Joure oudega-swf.nl
X-WR-CALNAME:Vakantie voorlezen en knutselen in Bibliotheek Joure
X-ALT-DESC;FMTTYPE=text/html:<a href='/agenda/2026/4/29/vakantie-voorlezen-en-knutselen-in-bibliotheek-joure-129974'>/agenda/2026/4/29/vakantie-voorlezen-en-knutselen-in-bibliotheek-joure-129974</a> || <p>Kom in de meivakantie luisteren naar ‘Cadeautje’ van Miriam Bos. Daarna maken we samen een cadeautje open en kun je je eigen verrassingsboek knutselen. Leuk om te bezoeken in combinatie met de&nbsp;<a href="https://bmf.op-shop.nl/881/voorstelling-cadeautje" target="_blank" rel="noreferrer noopener">gelijknamige voorstelling</a>.</p>
<p><strong>Het verhaal</strong><br />Suus is jarig en dat viert ze samen met August. Ze kijkt ontzettend uit naar haar cadeautje. Maar hij heeft het veel te druk met de voorbereidingen van het feest om aan het pakje te denken! Hij zal het vast niet erg vinden als ze alvast even spiekt wat erin zit…</p>
<p><strong>Voor wie?</strong><br />De activiteit is geschikt voor kinderen van 3 - 7 jaar. Het verhaal gaat over nieuwsgierigheid, vriendschap en groot worden. Perfect voor iedereen die van avonturen en verrassingen houdt!</p>
<p><strong>Aanmelden</strong><br />Meld je vooraf aan via bmf.op-shop.nl</p>
<p>Deze activiteit is onderdeel van de Geef een prentenboek cadeau campagne. Een campagne met als uitgangspunt dat alle kinderen de kans moeten krijgen om op te groeien tussen de mooiste boeken. Om dit te bereiken wordt jaarlijks een prachtig prentenboek (leeftijd 2-6 jaar) en een bijzonder jeugdboek (leeftijd 8-12 jaar) beschikbaar gesteld voor € 2,99. Dit jaar is het boek ‘Bijna gevonden’ van Miriam Bos (vanaf 22 mei) en ‘Limbusland’ van Pieter Koolwijk en Linde Faas voor slechts €2,99 en te koop bij de boekhandel.</p>
DESCRIPTION:<a href='/agenda/2026/4/29/vakantie-voorlezen-en-knutselen-in-bibliotheek-joure-129974'>/agenda/2026/4/29/vakantie-voorlezen-en-knutselen-in-bibliotheek-joure-129974</a> || <p>Kom in de meivakantie luisteren naar ‘Cadeautje’ van Miriam Bos. Daarna maken we samen een cadeautje open en kun je je eigen verrassingsboek knutselen. Leuk om te bezoeken in combinatie met de&nbsp;<a href="https://bmf.op-shop.nl/881/voorstelling-cadeautje" target="_blank" rel="noreferrer noopener">gelijknamige voorstelling</a>.</p>
<p><strong>Het verhaal</strong><br />Suus is jarig en dat viert ze samen met August. Ze kijkt ontzettend uit naar haar cadeautje. Maar hij heeft het veel te druk met de voorbereidingen van het feest om aan het pakje te denken! Hij zal het vast niet erg vinden als ze alvast even spiekt wat erin zit…</p>
<p><strong>Voor wie?</strong><br />De activiteit is geschikt voor kinderen van 3 - 7 jaar. Het verhaal gaat over nieuwsgierigheid, vriendschap en groot worden. Perfect voor iedereen die van avonturen en verrassingen houdt!</p>
<p><strong>Aanmelden</strong><br />Meld je vooraf aan via bmf.op-shop.nl</p>
<p>Deze activiteit is onderdeel van de Geef een prentenboek cadeau campagne. Een campagne met als uitgangspunt dat alle kinderen de kans moeten krijgen om op te groeien tussen de mooiste boeken. Om dit te bereiken wordt jaarlijks een prachtig prentenboek (leeftijd 2-6 jaar) en een bijzonder jeugdboek (leeftijd 8-12 jaar) beschikbaar gesteld voor € 2,99. Dit jaar is het boek ‘Bijna gevonden’ van Miriam Bos (vanaf 22 mei) en ‘Limbusland’ van Pieter Koolwijk en Linde Faas voor slechts €2,99 en te koop bij de boekhandel.</p>
LAST-MODIFIED:20260420T081858Z
LOCATION: Bibliotheek Joure | De Merk 31 Joure
SEQUENCE:0
STATUS:CONFIRMED
SUMMARY:Vakantie voorlezen en knutselen in Bibliotheek Joure
TRANSP:OPAQUE
END:VEVENT
END:VCALENDAR
