BEGIN:VCALENDAR
PRODID:-//PUBBLE//agenda//NL
VERSION:2.0
METHOD:PUBLISH
BEGIN:VEVENT
DTSTART:20260503T171500Z
DTEND:20260503T181500Z
DTSTAMP:20260420T081857Z
UID:683442b1-7ef8-42df-831b-41c8961b141a
CREATED:20260420T081857Z
NAME:Filmhuis: Amrum Fatih Akin oudega-swf.nl
X-WR-CALNAME:Filmhuis: Amrum Fatih Akin
X-ALT-DESC;FMTTYPE=text/html:<a href='/agenda/2026/5/3/filmhuis-amrum-fatih-akin-129988'>/agenda/2026/5/3/filmhuis-amrum-fatih-akin-129988</a> || <p>Ondanks alle ontberingen voelt het leven op het prachtige, winderige eiland bijna als een paradijs. Maar wanneer de vrede eindelijk aanbreekt, worstelt Nanning met de Nazi-overtuigingen van zijn ouders, en de tegenstanders op het eiland.</p>
<p>Amrum is een indringend coming-of-age verhaal van de Duitse regisseur Fatih Akin (Gegen die Wand, Aus dem Nichts), waarin hij opnieuw samenwerkt met Diane Kruger, die in de rol speelt van een jonge boerin die zich verzet tegen de Nazi’s. De film is geïnspireerd op de jeugdherinneringen van Akins vriend en mentor Hark Bohm, die de gelijknamige roman schreef. De jonge Duitse acteur Jasper Billerbeck speelt Nanning in een overtuigende debuutrol. De film ging in wereldpremière in de prestigieuze Cannes Premieres-sectie. In Duitsland was Amrum een enorm succes, en een van Fatih Akins best bezochte films.</p>
DESCRIPTION:<a href='/agenda/2026/5/3/filmhuis-amrum-fatih-akin-129988'>/agenda/2026/5/3/filmhuis-amrum-fatih-akin-129988</a> || <p>Ondanks alle ontberingen voelt het leven op het prachtige, winderige eiland bijna als een paradijs. Maar wanneer de vrede eindelijk aanbreekt, worstelt Nanning met de Nazi-overtuigingen van zijn ouders, en de tegenstanders op het eiland.</p>
<p>Amrum is een indringend coming-of-age verhaal van de Duitse regisseur Fatih Akin (Gegen die Wand, Aus dem Nichts), waarin hij opnieuw samenwerkt met Diane Kruger, die in de rol speelt van een jonge boerin die zich verzet tegen de Nazi’s. De film is geïnspireerd op de jeugdherinneringen van Akins vriend en mentor Hark Bohm, die de gelijknamige roman schreef. De jonge Duitse acteur Jasper Billerbeck speelt Nanning in een overtuigende debuutrol. De film ging in wereldpremière in de prestigieuze Cannes Premieres-sectie. In Duitsland was Amrum een enorm succes, en een van Fatih Akins best bezochte films.</p>
LAST-MODIFIED:20260420T081857Z
LOCATION: Onbekend | Leeuwenburg 12 Sneek
SEQUENCE:0
STATUS:CONFIRMED
SUMMARY:Filmhuis: Amrum Fatih Akin
TRANSP:OPAQUE
END:VEVENT
END:VCALENDAR
