BEGIN:VCALENDAR
PRODID:-//PUBBLE//agenda//NL
VERSION:2.0
METHOD:PUBLISH
BEGIN:VEVENT
DTSTART:20260517T171500Z
DTEND:20260517T181500Z
DTSTAMP:20260420T131752Z
UID:0e94349c-1e01-492a-bd83-97acaee2aa28
CREATED:20260420T131752Z
NAME:Filmhuis: Sirat Oliver Laxe oudega-swf.nl
X-WR-CALNAME:Filmhuis: Sirat Oliver Laxe
X-ALT-DESC;FMTTYPE=text/html:<a href='/agenda/2026/5/17/filmhuis-sirat-oliver-laxe-129992'>/agenda/2026/5/17/filmhuis-sirat-oliver-laxe-129992</a> || <p>De Marokkaanse woestijn vormt de imponerende achtergrond van deze gevaarlijke zoektocht, met een aantal memorabele momenten die de Spaanse regisseur Oliver Laxe definitief op de kaart zetten.</p>
<p>Luis &nbsp;arriveert met zijn zoontje Esteban&nbsp; op een illegale rave diep in de woestijn in Zuid-Marokko. Hij is op zoek naar zijn dochter Mar, die maanden geleden verdween tijdens een van deze grenzeloze feesten. Wanhopig op zoek naar een laatste spoor van Mar, volgen ze een groep ravers nog dieper de woestijn in. Dit wordt een fysieke en spirituele trip, begeleid door een hypnotiserende soundtrack.</p>
<p>Sirat won de Jury Prijs en op het Filmfestival van Cannes. Naast acteur Sergi López&nbsp; doet Oliver Laxe voornamelijk een beroep op een onervaren cast. De film werd mede geproduceerd door het productiebedrijf van Pedro Almodóvar en staat op de Oscar shortlist voor Beste Internationale Film.</p>
DESCRIPTION:<a href='/agenda/2026/5/17/filmhuis-sirat-oliver-laxe-129992'>/agenda/2026/5/17/filmhuis-sirat-oliver-laxe-129992</a> || <p>De Marokkaanse woestijn vormt de imponerende achtergrond van deze gevaarlijke zoektocht, met een aantal memorabele momenten die de Spaanse regisseur Oliver Laxe definitief op de kaart zetten.</p>
<p>Luis &nbsp;arriveert met zijn zoontje Esteban&nbsp; op een illegale rave diep in de woestijn in Zuid-Marokko. Hij is op zoek naar zijn dochter Mar, die maanden geleden verdween tijdens een van deze grenzeloze feesten. Wanhopig op zoek naar een laatste spoor van Mar, volgen ze een groep ravers nog dieper de woestijn in. Dit wordt een fysieke en spirituele trip, begeleid door een hypnotiserende soundtrack.</p>
<p>Sirat won de Jury Prijs en op het Filmfestival van Cannes. Naast acteur Sergi López&nbsp; doet Oliver Laxe voornamelijk een beroep op een onervaren cast. De film werd mede geproduceerd door het productiebedrijf van Pedro Almodóvar en staat op de Oscar shortlist voor Beste Internationale Film.</p>
LAST-MODIFIED:20260420T131752Z
LOCATION: Filmhuis Sneek | Leeuwenburg 12 Sneek
SEQUENCE:0
STATUS:CONFIRMED
SUMMARY:Filmhuis: Sirat Oliver Laxe
TRANSP:OPAQUE
END:VEVENT
END:VCALENDAR
