BEGIN:VCALENDAR
PRODID:-//PUBBLE//agenda//NL
VERSION:2.0
METHOD:PUBLISH
BEGIN:VEVENT
DTSTART:20260502T100000Z
DTEND:20260502T150000Z
DTSTAMP:20260420T063253Z
UID:c9e45278-35bc-4170-bb34-7e064fff7510
CREATED:20260420T063253Z
NAME:Oldtimer caravan Open deuren dag oudega-swf.nl
X-WR-CALNAME:Oldtimer caravan Open deuren dag
X-ALT-DESC;FMTTYPE=text/html:<a href='/agenda/2026/5/2/oldtimer-caravan-open-deuren-dag-129994'>/agenda/2026/5/2/oldtimer-caravan-open-deuren-dag-129994</a> || <p>Op zaterdag 2 mei organiseert de Constructam Caravan Club een open deuren dag op camping Pasveer in Sneek. Na lange tijd strijkt dit bijzondere evenement weer neer in Friesland.</p>
<p>Bezoekers kunnen genieten van meer dan 40 oldtimer caravans van het unieke merk Constructam, in allerlei soorten, maten en leeftijden. Een unieke kans om deze karakteristieke caravans van dichtbij te bewonderen en de sfeer van vroeger te proeven.</p>
<p>Iedereen is van harte welkom!</p>
DESCRIPTION:<a href='/agenda/2026/5/2/oldtimer-caravan-open-deuren-dag-129994'>/agenda/2026/5/2/oldtimer-caravan-open-deuren-dag-129994</a> || <p>Op zaterdag 2 mei organiseert de Constructam Caravan Club een open deuren dag op camping Pasveer in Sneek. Na lange tijd strijkt dit bijzondere evenement weer neer in Friesland.</p>
<p>Bezoekers kunnen genieten van meer dan 40 oldtimer caravans van het unieke merk Constructam, in allerlei soorten, maten en leeftijden. Een unieke kans om deze karakteristieke caravans van dichtbij te bewonderen en de sfeer van vroeger te proeven.</p>
<p>Iedereen is van harte welkom!</p>
LAST-MODIFIED:20260420T063253Z
LOCATION: Onbekend | Pasfeardyk 6 Sneek
SEQUENCE:0
STATUS:CONFIRMED
SUMMARY:Oldtimer caravan Open deuren dag
TRANSP:OPAQUE
END:VEVENT
END:VCALENDAR
