BEGIN:VCALENDAR
PRODID:-//PUBBLE//agenda//NL
VERSION:2.0
METHOD:PUBLISH
BEGIN:VEVENT
DTSTART:20260502T100000Z
DTEND:20260502T113000Z
DTSTAMP:20260420T082506Z
UID:71b5d06b-5572-45ea-8817-d4c04cae9c66
CREATED:20260420T082506Z
NAME:Kom zingen in Natuurmuseum Fryslân oudega-swf.nl
X-WR-CALNAME:Kom zingen in Natuurmuseum Fryslân
X-ALT-DESC;FMTTYPE=text/html:<a href='/agenda/2026/5/2/kom-zingen-in-natuurmuseum-fryslan-130015'>/agenda/2026/5/2/kom-zingen-in-natuurmuseum-fryslan-130015</a> || <p>Laat je stem horen en kom zingen in Natuurmuseum Fryslân. Amarins Woltring nodigt je uit voor een inspirerende S(w)ing Choir zangworkshop in Natuurmuseum Fryslân in Leeuwarden. Ervaring is niet nodig, alleen de wil om samen te zingen, lachen en genieten! Samen zingen op een leuke culturele locatie met mooie akoestiek doet meer dan alleen je humeur opkrikken – het creëert verbinding, ontspanning én geeft nieuwe energie. Kom meedoen, leer prachtige melodieën waarin ritmes uit Zuid- en West-Afrika en de Caraiben tot leven komen en ontmoet nieuwe mensen in een omgeving waar iedereen welkom is.</p>
DESCRIPTION:<a href='/agenda/2026/5/2/kom-zingen-in-natuurmuseum-fryslan-130015'>/agenda/2026/5/2/kom-zingen-in-natuurmuseum-fryslan-130015</a> || <p>Laat je stem horen en kom zingen in Natuurmuseum Fryslân. Amarins Woltring nodigt je uit voor een inspirerende S(w)ing Choir zangworkshop in Natuurmuseum Fryslân in Leeuwarden. Ervaring is niet nodig, alleen de wil om samen te zingen, lachen en genieten! Samen zingen op een leuke culturele locatie met mooie akoestiek doet meer dan alleen je humeur opkrikken – het creëert verbinding, ontspanning én geeft nieuwe energie. Kom meedoen, leer prachtige melodieën waarin ritmes uit Zuid- en West-Afrika en de Caraiben tot leven komen en ontmoet nieuwe mensen in een omgeving waar iedereen welkom is.</p>
LAST-MODIFIED:20260420T082506Z
LOCATION: Natuurmuseum Fryslân | Schoenmakersperk 2 Leeuwarden
SEQUENCE:0
STATUS:CONFIRMED
SUMMARY:Kom zingen in Natuurmuseum Fryslân
TRANSP:OPAQUE
END:VEVENT
END:VCALENDAR
