BEGIN:VCALENDAR
PRODID:-//PUBBLE//agenda//NL
VERSION:2.0
METHOD:PUBLISH
BEGIN:VEVENT
DTSTART:20260503T110000Z
DTEND:20260503T133000Z
DTSTAMP:20260420T082431Z
UID:fc99e9f6-d4dd-42aa-9341-9ee6c332e0b4
CREATED:20260420T082431Z
NAME:Opdrachtenwandeling langs de ooievaars in Oranjewoud oudega-swf.nl
X-WR-CALNAME:Opdrachtenwandeling langs de ooievaars in Oranjewoud
X-ALT-DESC;FMTTYPE=text/html:<a href='/agenda/2026/5/3/opdrachtenwandeling-langs-de-ooievaars-in-oranjewoud-130081'>/agenda/2026/5/3/opdrachtenwandeling-langs-de-ooievaars-in-oranjewoud-130081</a> || <p><strong>In de Overtuin en er net buiten nestelen nu veel ooievaars. Voor kinderen en hun (groot)ouders hebben wij een route uitgezet langs de nesten. Tijdens de korte wandeling lees je informatie over de ooievaar en er zijn verschillende leuke opdrachten en spelletjes. Zoals hoe lang kun jij op één been staan, of maak een nest dat net zo groot is als een ooievaarsnest. Tussen 13.00 en 15.30 kun je de route ophalen bij &nbsp;IVN Natuureducatie in de Natuurschuur in de Overtuin. Je hoeft je niet op te geven en deelname is gratis.</strong></p>
DESCRIPTION:<a href='/agenda/2026/5/3/opdrachtenwandeling-langs-de-ooievaars-in-oranjewoud-130081'>/agenda/2026/5/3/opdrachtenwandeling-langs-de-ooievaars-in-oranjewoud-130081</a> || <p><strong>In de Overtuin en er net buiten nestelen nu veel ooievaars. Voor kinderen en hun (groot)ouders hebben wij een route uitgezet langs de nesten. Tijdens de korte wandeling lees je informatie over de ooievaar en er zijn verschillende leuke opdrachten en spelletjes. Zoals hoe lang kun jij op één been staan, of maak een nest dat net zo groot is als een ooievaarsnest. Tussen 13.00 en 15.30 kun je de route ophalen bij &nbsp;IVN Natuureducatie in de Natuurschuur in de Overtuin. Je hoeft je niet op te geven en deelname is gratis.</strong></p>
LAST-MODIFIED:20260420T082431Z
LOCATION: Overtuin | Lindelaan 2master roordawei  Oranjewoud
SEQUENCE:0
STATUS:CONFIRMED
SUMMARY:Opdrachtenwandeling langs de ooievaars in Oranjewoud
TRANSP:OPAQUE
END:VEVENT
END:VCALENDAR
