BEGIN:VCALENDAR
PRODID:-//PUBBLE//agenda//NL
VERSION:2.0
METHOD:PUBLISH
BEGIN:VEVENT
DTSTART:20260703T180000Z
DTEND:20260703T203000Z
DTSTAMP:20260420T202447Z
UID:872d187f-2b0c-40eb-b866-ef4689ceae42
CREATED:20260420T202447Z
NAME:Toneelgroep Tweede Masker Heerenveen speelt “Blind date met dubbel D” in de Pastorietuin in Heerenveen oudega-swf.nl
X-WR-CALNAME:Toneelgroep Tweede Masker Heerenveen speelt “Blind date met dubbel D” in de Pastorietuin in Heerenveen
X-ALT-DESC;FMTTYPE=text/html:<a href='/agenda/2026/7/3/toneelgroep-tweede-masker-heerenveen-speelt-blind-date-met-dubbel-d-in-de-pastorietuin-in-heerenveen-130085'>/agenda/2026/7/3/toneelgroep-tweede-masker-heerenveen-speelt-blind-date-met-dubbel-d-in-de-pastorietuin-in-heerenveen-130085</a> || <p>Na een café, een camping en een kringloopwinkel vormt dit jaar een hotel het decor in hun eigen Openluchttheater in de Pastorietuin in het centrum van Heerenveen. Hoe kan het ook beter, de Pastorietuin was in het begin van de vorige eeuw nog onderdeel van het in die dagen bekende hotel Jorissen.</p><p>Dit jaar wordt het door Jeroen Antonis geschreven toneelstuk “Blind Date met dubbel D” opgevoerd.</p><p>Wat begint als een spannende blind date, loopt al snel volledig uit de hand…</p><p>In dit hilarische toneelstuk raakt iedereen verstrikt in een wirwar van leugens, vermommingen en onverwachte wendingen. Niets is wat het lijkt en niemand is nog wie hij zegt te zijn.</p><p>Terwijl de verwarring steeds groter wordt, volgen de komische situaties elkaar in rap tempo op. Wie heeft de regie nog in handen? En hoe loopt dit allemaal af?</p><p>Bereid je voor op een middag of avond vol humor, chaos en verrassingen. Een voorstelling die je niet wilt missen!</p><p>De voorstellingen zijn op vrijdagavond 3 juli en op zaterdagmiddag en zaterdagavond 4 juli 2026.&nbsp;</p><p>Meer informatie over de kaartverkoop en de Toneelgroep is terug te vinden via de website www.tweedemasker.nl en volg ons via de bekende socials https://www.facebook.com/toneelgroep.tweedemasker en https://www.instagram.com/toneelgroep.tweedemasker</p><p>Tot ziens op 3 of 4 juli.</p>
DESCRIPTION:<a href='/agenda/2026/7/3/toneelgroep-tweede-masker-heerenveen-speelt-blind-date-met-dubbel-d-in-de-pastorietuin-in-heerenveen-130085'>/agenda/2026/7/3/toneelgroep-tweede-masker-heerenveen-speelt-blind-date-met-dubbel-d-in-de-pastorietuin-in-heerenveen-130085</a> || <p>Na een café, een camping en een kringloopwinkel vormt dit jaar een hotel het decor in hun eigen Openluchttheater in de Pastorietuin in het centrum van Heerenveen. Hoe kan het ook beter, de Pastorietuin was in het begin van de vorige eeuw nog onderdeel van het in die dagen bekende hotel Jorissen.</p><p>Dit jaar wordt het door Jeroen Antonis geschreven toneelstuk “Blind Date met dubbel D” opgevoerd.</p><p>Wat begint als een spannende blind date, loopt al snel volledig uit de hand…</p><p>In dit hilarische toneelstuk raakt iedereen verstrikt in een wirwar van leugens, vermommingen en onverwachte wendingen. Niets is wat het lijkt en niemand is nog wie hij zegt te zijn.</p><p>Terwijl de verwarring steeds groter wordt, volgen de komische situaties elkaar in rap tempo op. Wie heeft de regie nog in handen? En hoe loopt dit allemaal af?</p><p>Bereid je voor op een middag of avond vol humor, chaos en verrassingen. Een voorstelling die je niet wilt missen!</p><p>De voorstellingen zijn op vrijdagavond 3 juli en op zaterdagmiddag en zaterdagavond 4 juli 2026.&nbsp;</p><p>Meer informatie over de kaartverkoop en de Toneelgroep is terug te vinden via de website www.tweedemasker.nl en volg ons via de bekende socials https://www.facebook.com/toneelgroep.tweedemasker en https://www.instagram.com/toneelgroep.tweedemasker</p><p>Tot ziens op 3 of 4 juli.</p>
LAST-MODIFIED:20260420T202447Z
LOCATION: Pastorietuin | Crackstraat 1 Heerenveen
SEQUENCE:0
STATUS:CONFIRMED
SUMMARY:Toneelgroep Tweede Masker Heerenveen speelt “Blind date met dubbel D” in de Pastorietuin in Heerenveen
TRANSP:OPAQUE
END:VEVENT
END:VCALENDAR
