BEGIN:VCALENDAR
PRODID:-//PUBBLE//agenda//NL
VERSION:2.0
METHOD:PUBLISH
BEGIN:VEVENT
DTSTART:20260503T143000Z
DTEND:20260503T170000Z
DTSTAMP:20260420T082431Z
UID:b1404fc6-9464-425d-8484-7db7e10b3e01
CREATED:20260420T082431Z
NAME:Opening palinghuid schilderijen Siebren Siebenga oudega-swf.nl
X-WR-CALNAME:Opening palinghuid schilderijen Siebren Siebenga
X-ALT-DESC;FMTTYPE=text/html:<a href='/agenda/2026/5/3/opening-palinghuid-schilderijen-siebren-siebenga-130088'>/agenda/2026/5/3/opening-palinghuid-schilderijen-siebren-siebenga-130088</a> || <p>Zondag 3 mei rond 14.30 feestelijke opening expositie schilderijen van palinghuid van Siebren Siebenga door Mello Sevinga uit Nes (Akkrum)</p>
DESCRIPTION:<a href='/agenda/2026/5/3/opening-palinghuid-schilderijen-siebren-siebenga-130088'>/agenda/2026/5/3/opening-palinghuid-schilderijen-siebren-siebenga-130088</a> || <p>Zondag 3 mei rond 14.30 feestelijke opening expositie schilderijen van palinghuid van Siebren Siebenga door Mello Sevinga uit Nes (Akkrum)</p>
LAST-MODIFIED:20260420T082431Z
LOCATION: Galerie Mildam | Schoterlandseweg 37 Mildam
SEQUENCE:0
STATUS:CONFIRMED
SUMMARY:Opening palinghuid schilderijen Siebren Siebenga
TRANSP:OPAQUE
END:VEVENT
END:VCALENDAR
