BEGIN:VCALENDAR
PRODID:-//PUBBLE//agenda//NL
VERSION:2.0
METHOD:PUBLISH
BEGIN:VEVENT
DTSTART:20260520T143000Z
DTEND:20260520T160000Z
DTSTAMP:20260420T132158Z
UID:76efd0f1-bd7d-411b-a81e-57cba49c1064
CREATED:20260420T132158Z
NAME:Maakplaats: Workshop experimenteren met stroom in Bibliotheek Bolsward oudega-swf.nl
X-WR-CALNAME:Maakplaats: Workshop experimenteren met stroom in Bibliotheek Bolsward
X-ALT-DESC;FMTTYPE=text/html:<a href='/agenda/2026/5/20/maakplaats-workshop-experimenteren-met-stroom-in-bibliotheek-bolsward-130089'>/agenda/2026/5/20/maakplaats-workshop-experimenteren-met-stroom-in-bibliotheek-bolsward-130089</a> || <p>Ga creatief aan de slag en ontwerp je eigen circuit-project, waarbij je samenwerkt, vragen stelt en stap voor stap oplossingen bedenkt zoals een echte onderzoeker. Zo leer je de basis van elektriciteit en techniek kennen door te ontdekken, te testen en zelf iets te maken.</p>
<p><strong>Wat ga je doen?</strong><br />Je maakt een gesloten circuit en leert hoe je daarmee een lampje kunt laten branden of een klein object in beweging kunt brengen. Door het testen van verschillende materialen ontdek je welke wel of geen stroom geleiden.</p>
<p><strong>Voor wie?</strong><br />Voor kinderen van 6 - 12 jaar die nieuwsgierig zijn en graag zelf dingen maken en uitproberen. Je ontdekt spelenderwijs hoe elektriciteit werkt door te bouwen, te testen en samen oplossingen te bedenken. Ervaring met techniek is niet nodig.</p>
<p><strong>Aanmelden</strong><br />Meld je vooraf aan via bmf.op-shop.nl. Let op: beperkt deelname.</p>
<p><em>Deze activiteit wordt georganiseerd in samenwerking met Meekit.</em></p>
DESCRIPTION:<a href='/agenda/2026/5/20/maakplaats-workshop-experimenteren-met-stroom-in-bibliotheek-bolsward-130089'>/agenda/2026/5/20/maakplaats-workshop-experimenteren-met-stroom-in-bibliotheek-bolsward-130089</a> || <p>Ga creatief aan de slag en ontwerp je eigen circuit-project, waarbij je samenwerkt, vragen stelt en stap voor stap oplossingen bedenkt zoals een echte onderzoeker. Zo leer je de basis van elektriciteit en techniek kennen door te ontdekken, te testen en zelf iets te maken.</p>
<p><strong>Wat ga je doen?</strong><br />Je maakt een gesloten circuit en leert hoe je daarmee een lampje kunt laten branden of een klein object in beweging kunt brengen. Door het testen van verschillende materialen ontdek je welke wel of geen stroom geleiden.</p>
<p><strong>Voor wie?</strong><br />Voor kinderen van 6 - 12 jaar die nieuwsgierig zijn en graag zelf dingen maken en uitproberen. Je ontdekt spelenderwijs hoe elektriciteit werkt door te bouwen, te testen en samen oplossingen te bedenken. Ervaring met techniek is niet nodig.</p>
<p><strong>Aanmelden</strong><br />Meld je vooraf aan via bmf.op-shop.nl. Let op: beperkt deelname.</p>
<p><em>Deze activiteit wordt georganiseerd in samenwerking met Meekit.</em></p>
LAST-MODIFIED:20260420T132158Z
LOCATION: Bibliotheek Bolsward | Jongemastraat 2 Bolsward
SEQUENCE:0
STATUS:CONFIRMED
SUMMARY:Maakplaats: Workshop experimenteren met stroom in Bibliotheek Bolsward
TRANSP:OPAQUE
END:VEVENT
END:VCALENDAR
