BEGIN:VCALENDAR
PRODID:-//PUBBLE//agenda//NL
VERSION:2.0
METHOD:PUBLISH
BEGIN:VEVENT
DTSTART:20260520T140000Z
DTEND:20260520T160000Z
DTSTAMP:20260420T132015Z
UID:fca8b94c-2cc7-46b6-849a-0d733f0e59fa
CREATED:20260420T132015Z
NAME:Ontdek de natuurpracht van Wilhelmina-oard te voet oudega-swf.nl
X-WR-CALNAME:Ontdek de natuurpracht van Wilhelmina-oard te voet
X-ALT-DESC;FMTTYPE=text/html:<a href='/agenda/2026/5/20/ontdek-de-natuurpracht-van-wilhelmina-oard-te-voet-130090'>/agenda/2026/5/20/ontdek-de-natuurpracht-van-wilhelmina-oard-te-voet-130090</a> || <p><strong>Wilhelmina-oard is misschien geen groot natuurgebied, maar toch staat deze excursie garant voor een fijne lentekuier. Het bos dat aan de oostkant van Sint Nicolaasga is gelegen, werd in 1845 aangelegd door Jonkheer Van Beyma. De lange, rechte eiken- en beukenlanen verraden zijn adellijke inborst.</strong></p><p>
Landgoed Wilhelmina-oard
</p>
<p>Als je in het dorp Sint Nicolaasga de afslag WilhelminaOord neemt, zie je al gauw het oude landgoed aan je rechterhand verschijnen. Momenteel is het een zorginstelling met daaromheen een wandelpark en ertegenover een gevarieerd bos dat in 1986 voor het grootste deel eigendom van natuurorganisatie It Fryske Gea werd. Rond 2007 werd er nog een nieuw deel met inheemse boom- en struiksoorten bij het bos aangeplant.</p><p>
Dieren in het bos
</p>
<p>Deze excursie staat garant voor een heerlijke wandeling met volop vogelzang om je heen. Vogels kun je overal tegenkomen? Klopt, maar niet overal laten de bosvogels zo goed van zich horen. Heb je ooit al eens het geluid van de zwartkop gehoord? Als deze begint te zingen moet je wel blijven luisteren. Daarnaast zijn de grote bonte specht, de gaai en de das vaste bewoners van het bos. De laatste zal je niet snel tegenkomen, hij is meer een stiekeme bewoner. Met een beetje speurwerk vind je zijn sporen, maar overdag ligt hij voornamelijk te slapen in zijn burcht. Kortom, genoeg te zien tijdens deze wandelexcursie. Trek je wandelschoenen aan en ga mee.</p><p>
Praktische tips van It Fryske Gea
</p>
<ul>
<li>Deze wandeling duurt ongeveer 2 uren</li>
<li>Trek waterdichte wandelschoenen of laarzen aan</li>
<li>Vergeet niet om een verrekijker mee te nemen</li>
<li>Kleed verschillende laagjes kleding aan, want er bestaat geen slecht weer, alleen slechte kleding</li>
<li>Deelname is op eigen risico: je kunt natuur-verslaafd raken!</li>
</ul>
<p>Als je je inschrijft voor een activiteit, dan ga je akkoord met onze <a href="https://www.itfryskegea.nl/algemene-voorwaarden-voor-deelname-aan-activiteiten/" target="_blank">activiteitenvoorwaarden</a>.</p>
DESCRIPTION:<a href='/agenda/2026/5/20/ontdek-de-natuurpracht-van-wilhelmina-oard-te-voet-130090'>/agenda/2026/5/20/ontdek-de-natuurpracht-van-wilhelmina-oard-te-voet-130090</a> || <p><strong>Wilhelmina-oard is misschien geen groot natuurgebied, maar toch staat deze excursie garant voor een fijne lentekuier. Het bos dat aan de oostkant van Sint Nicolaasga is gelegen, werd in 1845 aangelegd door Jonkheer Van Beyma. De lange, rechte eiken- en beukenlanen verraden zijn adellijke inborst.</strong></p><p>
Landgoed Wilhelmina-oard
</p>
<p>Als je in het dorp Sint Nicolaasga de afslag WilhelminaOord neemt, zie je al gauw het oude landgoed aan je rechterhand verschijnen. Momenteel is het een zorginstelling met daaromheen een wandelpark en ertegenover een gevarieerd bos dat in 1986 voor het grootste deel eigendom van natuurorganisatie It Fryske Gea werd. Rond 2007 werd er nog een nieuw deel met inheemse boom- en struiksoorten bij het bos aangeplant.</p><p>
Dieren in het bos
</p>
<p>Deze excursie staat garant voor een heerlijke wandeling met volop vogelzang om je heen. Vogels kun je overal tegenkomen? Klopt, maar niet overal laten de bosvogels zo goed van zich horen. Heb je ooit al eens het geluid van de zwartkop gehoord? Als deze begint te zingen moet je wel blijven luisteren. Daarnaast zijn de grote bonte specht, de gaai en de das vaste bewoners van het bos. De laatste zal je niet snel tegenkomen, hij is meer een stiekeme bewoner. Met een beetje speurwerk vind je zijn sporen, maar overdag ligt hij voornamelijk te slapen in zijn burcht. Kortom, genoeg te zien tijdens deze wandelexcursie. Trek je wandelschoenen aan en ga mee.</p><p>
Praktische tips van It Fryske Gea
</p>
<ul>
<li>Deze wandeling duurt ongeveer 2 uren</li>
<li>Trek waterdichte wandelschoenen of laarzen aan</li>
<li>Vergeet niet om een verrekijker mee te nemen</li>
<li>Kleed verschillende laagjes kleding aan, want er bestaat geen slecht weer, alleen slechte kleding</li>
<li>Deelname is op eigen risico: je kunt natuur-verslaafd raken!</li>
</ul>
<p>Als je je inschrijft voor een activiteit, dan ga je akkoord met onze <a href="https://www.itfryskegea.nl/algemene-voorwaarden-voor-deelname-aan-activiteiten/" target="_blank">activiteitenvoorwaarden</a>.</p>
LAST-MODIFIED:20260420T132015Z
LOCATION: Onbekend | It Sein 38 Sint Nicolaasga
SEQUENCE:0
STATUS:CONFIRMED
SUMMARY:Ontdek de natuurpracht van Wilhelmina-oard te voet
TRANSP:OPAQUE
END:VEVENT
END:VCALENDAR
