BEGIN:VCALENDAR
PRODID:-//PUBBLE//agenda//NL
VERSION:2.0
METHOD:PUBLISH
BEGIN:VEVENT
DTSTART:20260528T150000Z
DTEND:20260528T160000Z
DTSTAMP:20260420T063646Z
UID:d506120f-4516-4bb5-baef-a6b53fc50f5f
CREATED:20260420T063646Z
NAME:Voorlezen en knutselen in Bibliotheek Joure oudega-swf.nl
X-WR-CALNAME:Voorlezen en knutselen in Bibliotheek Joure
X-ALT-DESC;FMTTYPE=text/html:<a href='/agenda/2026/5/28/voorlezen-en-knutselen-in-bibliotheek-joure-130094'>/agenda/2026/5/28/voorlezen-en-knutselen-in-bibliotheek-joure-130094</a> || <p>Kom naar de voorlees- en knutselochtend! Luister naar een mooi verhaal en laat je fantasie tot leven komen tijdens het knutselen.</p>
<p>Er zijn een beperkt aantal plekjes beschikbaar, dus geef je kind(eren) snel op!</p>
<p><strong>Boeken:</strong></p>
<ul>
<li>April - Het liegbeestje – Ella van Houten en Jessica van den Berg</li>
<li>Mei - Bijna gevonden! - Miriam Bos</li>
<li>Juni - Niet normaal gewoon! – Mar Pavón</li>
<li>Juli - De jongen en de walvis – Linde Faas</li>
<li>Augustus - De Zonnedief – Alice Hemming</li>
</ul>
<p>De toegang is gratis, je hoeft je kind(eren) alleen maar even aan te melden.</p>
<p>*= m.u.v. schoolvakanties</p>
DESCRIPTION:<a href='/agenda/2026/5/28/voorlezen-en-knutselen-in-bibliotheek-joure-130094'>/agenda/2026/5/28/voorlezen-en-knutselen-in-bibliotheek-joure-130094</a> || <p>Kom naar de voorlees- en knutselochtend! Luister naar een mooi verhaal en laat je fantasie tot leven komen tijdens het knutselen.</p>
<p>Er zijn een beperkt aantal plekjes beschikbaar, dus geef je kind(eren) snel op!</p>
<p><strong>Boeken:</strong></p>
<ul>
<li>April - Het liegbeestje – Ella van Houten en Jessica van den Berg</li>
<li>Mei - Bijna gevonden! - Miriam Bos</li>
<li>Juni - Niet normaal gewoon! – Mar Pavón</li>
<li>Juli - De jongen en de walvis – Linde Faas</li>
<li>Augustus - De Zonnedief – Alice Hemming</li>
</ul>
<p>De toegang is gratis, je hoeft je kind(eren) alleen maar even aan te melden.</p>
<p>*= m.u.v. schoolvakanties</p>
LAST-MODIFIED:20260420T063646Z
LOCATION: Bibliotheek Joure | De Merk 31 Joure
SEQUENCE:0
STATUS:CONFIRMED
SUMMARY:Voorlezen en knutselen in Bibliotheek Joure
TRANSP:OPAQUE
END:VEVENT
END:VCALENDAR
