BEGIN:VCALENDAR
PRODID:-//PUBBLE//agenda//NL
VERSION:2.0
METHOD:PUBLISH
BEGIN:VEVENT
DTSTART:20260627T103000Z
DTEND:20260627T113000Z
DTSTAMP:20260420T063559Z
UID:8ca77f43-568f-4afb-a10b-b1dbb204ae4f
CREATED:20260420T063559Z
NAME:Voorlezen en knutselen in Bibliotheek Lemmer oudega-swf.nl
X-WR-CALNAME:Voorlezen en knutselen in Bibliotheek Lemmer
X-ALT-DESC;FMTTYPE=text/html:<a href='/agenda/2026/6/27/voorlezen-en-knutselen-in-bibliotheek-lemmer-130099'>/agenda/2026/6/27/voorlezen-en-knutselen-in-bibliotheek-lemmer-130099</a> || <p>Kom naar de voorlees- en knutselochtend! Luister naar een mooi verhaal en laat je fantasie tot leven komen tijdens het knutselen.</p>
<p>Er zijn een beperkt aantal plekjes beschikbaar, dus geef je kind(eren) snel op!</p>
<p><strong>Boeken:</strong></p>
<ul>
<li>April - Het liegbeestje – Ella van Houten en Jessica van den Berg</li>
<li>Mei - Bijna gevonden! - Miriam Bos</li>
<li>Juni - Niet normaal gewoon! – Mar Pavón</li>
<li>Juli - De jongen en de walvis – Linde Faas</li>
<li>Augustus - De Zonnedief – Alice Hemming</li>
</ul>
<p>De toegang is gratis, je hoeft je kind(eren) alleen maar even aan te melden.</p>
<p>*= m.u.v. schoolvakanties</p>
DESCRIPTION:<a href='/agenda/2026/6/27/voorlezen-en-knutselen-in-bibliotheek-lemmer-130099'>/agenda/2026/6/27/voorlezen-en-knutselen-in-bibliotheek-lemmer-130099</a> || <p>Kom naar de voorlees- en knutselochtend! Luister naar een mooi verhaal en laat je fantasie tot leven komen tijdens het knutselen.</p>
<p>Er zijn een beperkt aantal plekjes beschikbaar, dus geef je kind(eren) snel op!</p>
<p><strong>Boeken:</strong></p>
<ul>
<li>April - Het liegbeestje – Ella van Houten en Jessica van den Berg</li>
<li>Mei - Bijna gevonden! - Miriam Bos</li>
<li>Juni - Niet normaal gewoon! – Mar Pavón</li>
<li>Juli - De jongen en de walvis – Linde Faas</li>
<li>Augustus - De Zonnedief – Alice Hemming</li>
</ul>
<p>De toegang is gratis, je hoeft je kind(eren) alleen maar even aan te melden.</p>
<p>*= m.u.v. schoolvakanties</p>
LAST-MODIFIED:20260420T063559Z
LOCATION: Bibliotheek Lemmer | Albert Koopmanstraat 7 Lemmer
SEQUENCE:0
STATUS:CONFIRMED
SUMMARY:Voorlezen en knutselen in Bibliotheek Lemmer
TRANSP:OPAQUE
END:VEVENT
END:VCALENDAR
