BEGIN:VCALENDAR
PRODID:-//PUBBLE//agenda//NL
VERSION:2.0
METHOD:PUBLISH
BEGIN:VEVENT
DTSTART:20260523T200000Z
DTEND:20260523T220000Z
DTSTAMP:20260420T132158Z
UID:6e9bb6d3-08b2-4d44-a3d2-77e0a6a960ef
CREATED:20260420T132158Z
NAME:Mus Folkmuziek Tribute The Dubliners oudega-swf.nl
X-WR-CALNAME:Mus Folkmuziek Tribute The Dubliners
X-ALT-DESC;FMTTYPE=text/html:<a href='/agenda/2026/5/23/mus-folkmuziek-tribute-the-dubliners-130122'>/agenda/2026/5/23/mus-folkmuziek-tribute-the-dubliners-130122</a> || <p>Mus Folkmuziek viert het 80 jarig bestaan van Insulinde in Leeuwarden<br /><br />Wij zijn een groep van 4 enthousiaste muzikanten met de band genaamd <br />MUS (muziek uit Stiens of de eerste 3 letters van music)<br />We spelen folkmuziek.<br />De zang wordt begeleid door muziekinstrumenten zoals gitaar, banjo, diverse fluiten en zang.<br />Freek en Arend hebben de band opgericht.<br />Niet veel later kwam Nanda erbij met zang, bas klavier en Bodhran <br />Tijdens de lockdown van de corona heeft Nanda haar zus Annemiek meegenomen.<br />Annemiek bracht haar gitaar, zang en enkele fluiten mee.<br />Kortom, een zeer muzikaal geheel.<br />Afgelopen jaar zijn we begonnen met Tribute Dubliners.<br />Het werd zo’n succes, dat we hebben besloten om er nog even mee door te gaan,<br />want in het nieuwe jaar zijn we ook weer gevraagd voor dit project.<br />Wij brengen u dit jaar The Dubliners.</p>
DESCRIPTION:<a href='/agenda/2026/5/23/mus-folkmuziek-tribute-the-dubliners-130122'>/agenda/2026/5/23/mus-folkmuziek-tribute-the-dubliners-130122</a> || <p>Mus Folkmuziek viert het 80 jarig bestaan van Insulinde in Leeuwarden<br /><br />Wij zijn een groep van 4 enthousiaste muzikanten met de band genaamd <br />MUS (muziek uit Stiens of de eerste 3 letters van music)<br />We spelen folkmuziek.<br />De zang wordt begeleid door muziekinstrumenten zoals gitaar, banjo, diverse fluiten en zang.<br />Freek en Arend hebben de band opgericht.<br />Niet veel later kwam Nanda erbij met zang, bas klavier en Bodhran <br />Tijdens de lockdown van de corona heeft Nanda haar zus Annemiek meegenomen.<br />Annemiek bracht haar gitaar, zang en enkele fluiten mee.<br />Kortom, een zeer muzikaal geheel.<br />Afgelopen jaar zijn we begonnen met Tribute Dubliners.<br />Het werd zo’n succes, dat we hebben besloten om er nog even mee door te gaan,<br />want in het nieuwe jaar zijn we ook weer gevraagd voor dit project.<br />Wij brengen u dit jaar The Dubliners.</p>
LAST-MODIFIED:20260420T132158Z
LOCATION: Insulinde | Gaspeldoornstraat 2 Leeuwarden
SEQUENCE:0
STATUS:CONFIRMED
SUMMARY:Mus Folkmuziek Tribute The Dubliners
TRANSP:OPAQUE
END:VEVENT
END:VCALENDAR
