BEGIN:VCALENDAR
PRODID:-//PUBBLE//agenda//NL
VERSION:2.0
METHOD:PUBLISH
BEGIN:VEVENT
DTSTART:20260530T220000Z
DTEND:20260530T050000Z
DTSTAMP:20260420T150539Z
UID:53822854-4ed5-45d6-9ee2-0ad5ca5b5554
CREATED:20260420T150539Z
NAME:SPUTNIK TECHNO INVITES BASSMENT AMSTERDAM oudega-swf.nl
X-WR-CALNAME:SPUTNIK TECHNO INVITES BASSMENT AMSTERDAM
X-ALT-DESC;FMTTYPE=text/html:<a href='/agenda/2026/5/31/sputnik-techno-invites-bassment-amsterdam-130126'>/agenda/2026/5/31/sputnik-techno-invites-bassment-amsterdam-130126</a> || <p>Invites The Bas[s]ment</p>
<p><strong>Voor deze speciale editie bundelt Sputnik Techno de krachten met The Bas[s]ment Amsterdam On Tour voor een avond in ons café. Wat begon als een klein initiatief tijdens de pandemie, is uitgegroeid tot een van de hotspots van de Amsterdamse underground. The Bas[s]ment is gebouwd op rauwe energie, pure techno en een community die leeft voor het moment, geen hype, geen shortcuts, gewoon het echte werk. Nu ontmoet hun kenmerkende sound de industriële rand van Sputnik Techno.</strong></p>
<p>Wietze Young en Rick QPRS zetten de toon voor de avond, openen de dansvloer en bouwen de energie vanaf de grond op. Daarna neemt The Bas[s]ment het over en stuwt de avond verder, donkerder en dieper.</p>
<p>Twee collectieven.<br />Eén visie.<br />Geen compromissen.</p>
DESCRIPTION:<a href='/agenda/2026/5/31/sputnik-techno-invites-bassment-amsterdam-130126'>/agenda/2026/5/31/sputnik-techno-invites-bassment-amsterdam-130126</a> || <p>Invites The Bas[s]ment</p>
<p><strong>Voor deze speciale editie bundelt Sputnik Techno de krachten met The Bas[s]ment Amsterdam On Tour voor een avond in ons café. Wat begon als een klein initiatief tijdens de pandemie, is uitgegroeid tot een van de hotspots van de Amsterdamse underground. The Bas[s]ment is gebouwd op rauwe energie, pure techno en een community die leeft voor het moment, geen hype, geen shortcuts, gewoon het echte werk. Nu ontmoet hun kenmerkende sound de industriële rand van Sputnik Techno.</strong></p>
<p>Wietze Young en Rick QPRS zetten de toon voor de avond, openen de dansvloer en bouwen de energie vanaf de grond op. Daarna neemt The Bas[s]ment het over en stuwt de avond verder, donkerder en dieper.</p>
<p>Twee collectieven.<br />Eén visie.<br />Geen compromissen.</p>
LAST-MODIFIED:20260420T150539Z
LOCATION: Neushoorn | Ruiterskwartier 41 Leeuwarden
SEQUENCE:0
STATUS:CONFIRMED
SUMMARY:SPUTNIK TECHNO INVITES BASSMENT AMSTERDAM
TRANSP:OPAQUE
END:VEVENT
END:VCALENDAR
