BEGIN:VCALENDAR
PRODID:-//PUBBLE//agenda//NL
VERSION:2.0
METHOD:PUBLISH
BEGIN:VEVENT
DTSTART:20260427T140000Z
DTEND:20260427T150000Z
DTSTAMP:20260420T063558Z
UID:b0ded059-69dc-4e12-8c5c-5daf5a3f1918
CREATED:20260420T063558Z
NAME:Koningsdag Heerenveen oudega-swf.nl
X-WR-CALNAME:Koningsdag Heerenveen
X-ALT-DESC;FMTTYPE=text/html:<a href='/agenda/2026/4/27/koningsdag-heerenveen-130174'>/agenda/2026/4/27/koningsdag-heerenveen-130174</a> || <p>Bron: centrumheerenveen.nl</p>
DESCRIPTION:<a href='/agenda/2026/4/27/koningsdag-heerenveen-130174'>/agenda/2026/4/27/koningsdag-heerenveen-130174</a> || <p>Bron: centrumheerenveen.nl</p>
LAST-MODIFIED:20260420T063558Z
LOCATION: Onbekend | Gemeenteplein  Heerenveen
SEQUENCE:0
STATUS:CONFIRMED
SUMMARY:Koningsdag Heerenveen
TRANSP:OPAQUE
END:VEVENT
END:VCALENDAR
