BEGIN:VCALENDAR
PRODID:-//PUBBLE//agenda//NL
VERSION:2.0
METHOD:PUBLISH
BEGIN:VEVENT
DTSTART:20260613T100000Z
DTEND:20260613T120000Z
DTSTAMP:20260420T182740Z
UID:5b91e023-6f38-43d3-aef6-3ea53d8945d0
CREATED:20260420T182740Z
NAME:Ontdek het verborgen moerasparadijs Easterskar 12+ oudega-swf.nl
X-WR-CALNAME:Ontdek het verborgen moerasparadijs Easterskar 12+
X-ALT-DESC;FMTTYPE=text/html:<a href='/agenda/2026/6/13/ontdek-het-verborgen-moerasparadijs-easterskar-12--130176'>/agenda/2026/6/13/ontdek-het-verborgen-moerasparadijs-easterskar-12--130176</a> || <p><strong>Easterskar is een waterrijk domein ten oosten van het Tjeukemeer waar vele vogels, planten, vlinders, reptielen en amfibieën leven. Het meer dan 500 hectare grote natuurgebied bestaat uit hooilanden, petgaten en een moerasbos. Samen vormen ze een prachtig leefgebied voor bijzondere dier- en plantensoorten.</strong></p><p>
Keurige lappendeken
</p>
<p>Tussen Heerenveen en het Tjeukemeer, liggen alle landerijen netjes als langwerpige rechthoeken dwars op rivier <em>De Tsjonger</em>. In Easterskar – een natuurgebied te midden van deze keurige lappendeken gelegen – is dat patroon niet anders, maar de begroeiing is er wel anders. De graslanden in dit gebied worden namelijk niet bemest en daardoor blijft het land en het water voedselarm. Dit maakt dat er een natuurlijke variatie aan planten groeit en dát trekt weer veel verschillende insecten, vogels en andere fauna zoals de otter.</p><p>
Afwisselend moerasgebied
</p>
<p>Ga mee op pad met een excursieleider van It Fryske Gea en kom alles te weten over het vrij onbekende moerasgebied Easterskar, dat toch vlakbij Heerenveen gelegen is. Je wandelt door hooilanden die soms door koeien begraasd worden, door rietlanden waar roofvogels boven cirkelen, langs oude petgaten uit de tijd van de vervening die inmiddels vol gegroeid zijn geraakt met elzen- en berkenbomen, om plots op een vrij dicht moerasbos te stuiten. Easterskar heeft het allemaal! Eenmaal aangekomen bij vogelkijkhut<em> Skiere Goes</em> kun je ongestoord vogels bespieden. De hut heeft niet voor niets deze naam: het tilt hier op de van de grauwe ganzen die graag op de open plassen ronddobberen.</p><p>
Voor vogelliefhebbers
</p>
<p>Liefhebbers van al wat vliegt, kunnen hun hart ophalen in moerasgebied Easterskar. In het voorjaar bivakkeren hier niet alleen grote groepen grauwe ganzen met hun jongen. Ook roofvogels als de blauwe kiekendief, boomvalk en soms zelfs de visarend vliegen er rond. Verder zou je de lepelaar en de rietzanger kunnen aantreffen. En in het voorjaar zul je vast de roerdomp horen hoempen vanaf zijn plakje<em> ferskûle yn ‘t reit</em>. Het zou zomaar kunnen dat je na deze excursie nog eens terugkeert om opnieuw te genieten van de rust en natuurpracht.</p><p>
Praktische tips van It Fryske Gea
</p>
<ul>
<li>Deze natuurwandeling duurt ongeveer 3 uren.</li>
<li>Trek bij nat weer waterdichte wandelschoenen of laarzen aan, het gebied kan nat zijn.</li>
<li>Trek voldoende laagjes kleding aan. Want je weet: er bestaat geen slecht weer, alleen slechte kleding!</li>
<li>Deelname is op eigen risico: je kunt verslaafd raken aan de natuur!</li>
</ul>
<p>Als je je inschrijft voor een activiteit, dan ga je akkoord met onze <a href="https://www.itfryskegea.nl/algemene-voorwaarden-voor-deelname-aan-activiteiten/" target="_blank">activiteitenvoorwaarden</a>.</p>
DESCRIPTION:<a href='/agenda/2026/6/13/ontdek-het-verborgen-moerasparadijs-easterskar-12--130176'>/agenda/2026/6/13/ontdek-het-verborgen-moerasparadijs-easterskar-12--130176</a> || <p><strong>Easterskar is een waterrijk domein ten oosten van het Tjeukemeer waar vele vogels, planten, vlinders, reptielen en amfibieën leven. Het meer dan 500 hectare grote natuurgebied bestaat uit hooilanden, petgaten en een moerasbos. Samen vormen ze een prachtig leefgebied voor bijzondere dier- en plantensoorten.</strong></p><p>
Keurige lappendeken
</p>
<p>Tussen Heerenveen en het Tjeukemeer, liggen alle landerijen netjes als langwerpige rechthoeken dwars op rivier <em>De Tsjonger</em>. In Easterskar – een natuurgebied te midden van deze keurige lappendeken gelegen – is dat patroon niet anders, maar de begroeiing is er wel anders. De graslanden in dit gebied worden namelijk niet bemest en daardoor blijft het land en het water voedselarm. Dit maakt dat er een natuurlijke variatie aan planten groeit en dát trekt weer veel verschillende insecten, vogels en andere fauna zoals de otter.</p><p>
Afwisselend moerasgebied
</p>
<p>Ga mee op pad met een excursieleider van It Fryske Gea en kom alles te weten over het vrij onbekende moerasgebied Easterskar, dat toch vlakbij Heerenveen gelegen is. Je wandelt door hooilanden die soms door koeien begraasd worden, door rietlanden waar roofvogels boven cirkelen, langs oude petgaten uit de tijd van de vervening die inmiddels vol gegroeid zijn geraakt met elzen- en berkenbomen, om plots op een vrij dicht moerasbos te stuiten. Easterskar heeft het allemaal! Eenmaal aangekomen bij vogelkijkhut<em> Skiere Goes</em> kun je ongestoord vogels bespieden. De hut heeft niet voor niets deze naam: het tilt hier op de van de grauwe ganzen die graag op de open plassen ronddobberen.</p><p>
Voor vogelliefhebbers
</p>
<p>Liefhebbers van al wat vliegt, kunnen hun hart ophalen in moerasgebied Easterskar. In het voorjaar bivakkeren hier niet alleen grote groepen grauwe ganzen met hun jongen. Ook roofvogels als de blauwe kiekendief, boomvalk en soms zelfs de visarend vliegen er rond. Verder zou je de lepelaar en de rietzanger kunnen aantreffen. En in het voorjaar zul je vast de roerdomp horen hoempen vanaf zijn plakje<em> ferskûle yn ‘t reit</em>. Het zou zomaar kunnen dat je na deze excursie nog eens terugkeert om opnieuw te genieten van de rust en natuurpracht.</p><p>
Praktische tips van It Fryske Gea
</p>
<ul>
<li>Deze natuurwandeling duurt ongeveer 3 uren.</li>
<li>Trek bij nat weer waterdichte wandelschoenen of laarzen aan, het gebied kan nat zijn.</li>
<li>Trek voldoende laagjes kleding aan. Want je weet: er bestaat geen slecht weer, alleen slechte kleding!</li>
<li>Deelname is op eigen risico: je kunt verslaafd raken aan de natuur!</li>
</ul>
<p>Als je je inschrijft voor een activiteit, dan ga je akkoord met onze <a href="https://www.itfryskegea.nl/algemene-voorwaarden-voor-deelname-aan-activiteiten/" target="_blank">activiteitenvoorwaarden</a>.</p>
LAST-MODIFIED:20260420T182740Z
LOCATION: Onbekend | Nabij Bisschopsweg 22 Rotstergaast
SEQUENCE:0
STATUS:CONFIRMED
SUMMARY:Ontdek het verborgen moerasparadijs Easterskar 12+
TRANSP:OPAQUE
END:VEVENT
END:VCALENDAR
